BEGIN:VCALENDAR
PRODID:NingEventWidget-v1
VERSION:2.0
METHOD:PUBLISH
BEGIN:VTIMEZONE
TZID:Pacific/Midway
X-LIC-LOCATION:Pacific/Midway
BEGIN:STANDARD
TZOFFSETFROM:-1100
TZOFFSETTO:-1100
TZNAME:SST
DTSTART:19700101T000000
END:STANDARD
END:VTIMEZONE
BEGIN:VEVENT
UID:5072275:Event:1044420
DTSTAMP:20260423T150402Z
SUMMARY:Open Practice
DESCRIPTION:2017 Lonesome Pine Raceway Schedule\nGrandstands open at 4
  p.m. Racing at 7 p.m. \nLate Model Stock Car - LMSC | Modified Str
 eet - MS | Pure 4 - P4 | Mod 4 - M4 | Pure Street - PS | 6 Cyl. FWD Cl
 ass - V6 | Bandolero-BD | Legend- LG\n\nFor more information visit htt
 ps://www.southeastwheelsevents.com/events/open-practice-6
DTSTART;TZID=Pacific/Midway:20170406T000000
DTEND;TZID=Pacific/Midway:20170406T235900
CATEGORIES:race
LOCATION:Lonesome Pine Raceway
WEBSITE:http://www.thepineraceway.com/
URL:http://www.thepineraceway.com/
CONTACT:(276) 395-5155
ORGANIZER:
ATTACH;FMTTYPE="image/jpeg":http://storage.ning.com/topology/rest/1.0/
 file/get/967744695?profile=original
ATTENDEE;ROLE=REQ-PARTICIPANT;PARTSTAT=ACCEPTED;RSVP=TRUE;CN="Christop
 her Gosney":https://www.southeastwheelsevents.com/profile/ChristopherG
 osney
END:VEVENT
END:VCALENDAR
