BEGIN:VCALENDAR
PRODID:NingEventWidget-v1
VERSION:2.0
METHOD:PUBLISH
BEGIN:VTIMEZONE
TZID:Pacific/Midway
X-LIC-LOCATION:Pacific/Midway
BEGIN:STANDARD
TZOFFSETFROM:-1100
TZOFFSETTO:-1100
TZNAME:SST
DTSTART:19700101T000000
END:STANDARD
END:VTIMEZONE
BEGIN:VEVENT
UID:5072275:Event:1042934
DTSTAMP:20260423T163142Z
SUMMARY:Open Practice All Divisions
DESCRIPTION:LM - Limited Late Model Div. SS - Street Stock Div. MS - M
 ini Stock Div. PS - Pure Stock Div. Outlaw - Outlaw Div.\n\nFor more i
 nformation visit https://www.southeastwheelsevents.com/events/open-pra
 ctice-all-divisions
DTSTART;TZID=Pacific/Midway:20170404T000000
DTEND;TZID=Pacific/Midway:20170404T235900
CATEGORIES:race
LOCATION:Coastal Plains Dragway
WEBSITE:http://www.coastalplainsraceway.com/dragway/
URL:http://www.coastalplainsraceway.com/dragway/
CONTACT:(910) 347-2200
ORGANIZER:
ATTACH;FMTTYPE="image/jpeg":http://storage.ning.com/topology/rest/1.0/
 file/get/967743660?profile=original
ATTENDEE;ROLE=REQ-PARTICIPANT;PARTSTAT=ACCEPTED;RSVP=TRUE;CN="Christop
 her Gosney":https://www.southeastwheelsevents.com/profile/ChristopherG
 osney
END:VEVENT
END:VCALENDAR
