BEGIN:VCALENDAR
PRODID:NingEventWidget-v1
VERSION:2.0
METHOD:PUBLISH
BEGIN:VTIMEZONE
TZID:Pacific/Midway
X-LIC-LOCATION:Pacific/Midway
BEGIN:STANDARD
TZOFFSETFROM:-1100
TZOFFSETTO:-1100
TZNAME:SST
DTSTART:19700101T000000
END:STANDARD
END:VTIMEZONE
BEGIN:VEVENT
UID:5072275:Event:1025941
DTSTAMP:20260422T210649Z
SUMMARY:Orlando Jeep Club Social Meeting
DESCRIPTION:Orlando Jeep Club Social Meeting will happen at Uncle Kenn
 y's BBQ, 157 North US Highway 27, Clermont, FL. Meeting starts at 6.00
 pm and ends by 8.00pm.\n\nFor more information visit https://www.south
 eastwheelsevents.com/events/orlando-jeep-club-social-meeting
DTSTART;TZID=Pacific/Midway:20161220T180000
DTEND;TZID=Pacific/Midway:20161220T200000
CATEGORIES:off-road, "clubs/shows/cruises"
LOCATION:Uncle Kenny's BBQ
WEBSITE:http://orlandojeepclub.com/calendar/
URL:http://orlandojeepclub.com/calendar/
CONTACT:
ORGANIZER:The Orlando Jeep Club
ATTACH;FMTTYPE="image/jpeg":http://storage.ning.com/topology/rest/1.0/
 file/get/967721110?profile=original
ATTENDEE;ROLE=REQ-PARTICIPANT;PARTSTAT=ACCEPTED;RSVP=TRUE;CN="Chris go
 sney":https://www.southeastwheelsevents.com/profile/Chrisgosney
END:VEVENT
END:VCALENDAR
