BEGIN:VCALENDAR
PRODID:NingEventWidget-v1
VERSION:2.0
METHOD:PUBLISH
BEGIN:VTIMEZONE
TZID:Pacific/Midway
X-LIC-LOCATION:Pacific/Midway
BEGIN:STANDARD
TZOFFSETFROM:-1100
TZOFFSETTO:-1100
TZNAME:SST
DTSTART:19700101T000000
END:STANDARD
END:VTIMEZONE
BEGIN:VEVENT
UID:5072275:Event:647791
DTSTAMP:20260424T002405Z
SUMMARY:OUTLAW Bounty Race -Crossville, TN
DESCRIPTION:MAY BOUNTY RACE. PRO STREET, EXTREME STREET, CHEAP STREET,
  6.00 , 7.00 HEADS UP!!!\n\nFor more information visit https://www.sou
 theastwheelsevents.com/events/outlaw-bounty-race
DTSTART;TZID=Pacific/Midway:20130525T000000
DTEND;TZID=Pacific/Midway:20130525T235900
CATEGORIES:drag, racing
LOCATION:I-40 Dragway , Crossville TN
WEBSITE:http://www.i40dragway.com/
URL:http://www.i40dragway.com/
CONTACT:
ORGANIZER:I-40
ATTACH;FMTTYPE="image/jpeg":http://storage.ning.com/topology/rest/1.0/
 file/get/967637932?profile=original
ATTENDEE;ROLE=REQ-PARTICIPANT;PARTSTAT=ACCEPTED;RSVP=TRUE;CN="Jason Co
 le aka Bird":https://www.southeastwheelsevents.com/profile/JasonColeak
 aBird
END:VEVENT
END:VCALENDAR
