BEGIN:VCALENDAR
PRODID:NingEventWidget-v1
VERSION:2.0
METHOD:PUBLISH
BEGIN:VTIMEZONE
TZID:Pacific/Midway
X-LIC-LOCATION:Pacific/Midway
BEGIN:STANDARD
TZOFFSETFROM:-1100
TZOFFSETTO:-1100
TZNAME:SST
DTSTART:19700101T000000
END:STANDARD
END:VTIMEZONE
BEGIN:VEVENT
UID:5072275:Event:983525
DTSTAMP:20260423T171709Z
SUMMARY:Palmetto Masonic Car Show - Palmetto, GA
DESCRIPTION:\r\nCar Cruises, Expos & Auto Shows In Palmetto, Georgia\r
 \nIt’s time to gear up your engines and head on out to the best car 
 shows 2024 happening in the Palmetto area! Visiting the hottest car sh
 ows will be the best way to end your weekend. Explore best of auto sho
 ws events in Palmetto\r\n\n\nFor more information visit https://www.so
 utheastwheelsevents.com/events/packards-in-palmetto-car-show-palmetto-
 ga
DTSTART;TZID=Pacific/Midway:20240622T100000
DTEND;TZID=Pacific/Midway:20240622T140000
CATEGORIES:car-show, cruise-in
LOCATION:Palmetto Masonic Lodge #74 F&amp;AM
WEBSITE:https://www.facebook.com/Palmetto74/
URL:https://www.facebook.com/Palmetto74/
CONTACT:
ORGANIZER:Palmetto Masonic Lodge
ATTACH;FMTTYPE="image/jpeg":http://storage.ning.com/topology/rest/1.0/
 file/get/967704356?profile=original
ATTENDEE;ROLE=REQ-PARTICIPANT;PARTSTAT=ACCEPTED;RSVP=TRUE;CN="Chuck Aa
 ron":https://www.southeastwheelsevents.com/profile/ChuckAaron
END:VEVENT
END:VCALENDAR
