BEGIN:VCALENDAR
PRODID:NingEventWidget-v1
VERSION:2.0
METHOD:PUBLISH
BEGIN:VTIMEZONE
TZID:Pacific/Midway
X-LIC-LOCATION:Pacific/Midway
BEGIN:STANDARD
TZOFFSETFROM:-1100
TZOFFSETTO:-1100
TZNAME:SST
DTSTART:19700101T000000
END:STANDARD
END:VTIMEZONE
BEGIN:VEVENT
UID:5072275:Event:1087855
DTSTAMP:20260423T010105Z
SUMMARY:Pageland Watermelon Festival Car Show - PAGELAND, SC,
DESCRIPTION:Pageland Watermelon Festival Car Show.\n\nFor more informa
 tion visit https://www.southeastwheelsevents.com/events/pageland-water
 melon-festival-car-show-pageland-sc
DTSTART;TZID=Pacific/Midway:20180721T090000
DTEND;TZID=Pacific/Midway:20180721T160000
CATEGORIES:car, show
LOCATION:PAGELAND
WEBSITE:http://pagelandwatermelonfestival.com
URL:http://pagelandwatermelonfestival.com
CONTACT:(843) 672-6400
ORGANIZER:
ATTACH;FMTTYPE="image/jpeg":http://storage.ning.com/topology/rest/1.0/
 file/get/967779139?profile=original
ATTENDEE;ROLE=REQ-PARTICIPANT;PARTSTAT=ACCEPTED;RSVP=TRUE;CN="Anthony 
 Hopkins":https://www.southeastwheelsevents.com/profile/AnthonyHopkins
END:VEVENT
END:VCALENDAR
