BEGIN:VCALENDAR
PRODID:NingEventWidget-v1
VERSION:2.0
METHOD:PUBLISH
BEGIN:VTIMEZONE
TZID:Pacific/Midway
X-LIC-LOCATION:Pacific/Midway
BEGIN:STANDARD
TZOFFSETFROM:-1100
TZOFFSETTO:-1100
TZNAME:SST
DTSTART:19700101T000000
END:STANDARD
END:VTIMEZONE
BEGIN:VEVENT
UID:5072275:Event:1080474
DTSTAMP:20260423T123224Z
SUMMARY:Palmetto Cruisers Club Meeting -Florence, SC
DESCRIPTION:Palmetto Cruisers Club Meeting -Florence, SC\n\nFor more i
 nformation visit https://www.southeastwheelsevents.com/events/palmetto
 -cruisers-club-meeting-florence-sc
DTSTART;TZID=Pacific/Midway:20180507T183000
DTEND;TZID=Pacific/Midway:20180507T203000
CATEGORIES:car, truck, bikeshow
LOCATION:Lil D's Dougout
WEBSITE:http://www.palmettocruisers.org
URL:http://www.palmettocruisers.org
CONTACT:Davy McClary 843-621-1946
ORGANIZER:Palmetto Cruisers
ATTACH;FMTTYPE="image/jpeg":http://storage.ning.com/topology/rest/1.0/
 file/get/967573262?profile=original
ATTENDEE;ROLE=REQ-PARTICIPANT;PARTSTAT=ACCEPTED;RSVP=TRUE;CN="Chuck Aa
 ron":https://www.southeastwheelsevents.com/profile/ChuckAaron886
END:VEVENT
END:VCALENDAR
