BEGIN:VCALENDAR
PRODID:NingEventWidget-v1
VERSION:2.0
METHOD:PUBLISH
BEGIN:VTIMEZONE
TZID:Pacific/Midway
X-LIC-LOCATION:Pacific/Midway
BEGIN:STANDARD
TZOFFSETFROM:-1100
TZOFFSETTO:-1100
TZNAME:SST
DTSTART:19700101T000000
END:STANDARD
END:VTIMEZONE
BEGIN:VEVENT
UID:5072275:Event:96547
DTSTAMP:20260424T111003Z
SUMMARY:Palmetto Nationals at Darlington Dragway -Hartsville-Darlingto
 n, SC
DESCRIPTION:\nThe Palmetto Nationals is entering into our 5th year ru
 nning at the legendary Darlington Dragway. If you have never raced at 
 this track before, you will be impressed. Darlington Dragway is one of
  the best dragstrips around when it comes to track surface & race prep
 . Pre-event test-n-tune runs will be available on Friday night before 
 racing starts on Saturday.\nThe Palmetto Nationals has featured some o
 f the best drag racing seen in one place on the East Coast. Some of th
 e racers that have attended our event are the Quick 8 Outlaws, the Di
 xie Outlaw Door Slammers, Drag Racers Association of Florence, Palmett
 o Drag Racers Association, Southern Drag Racers Association and many m
 ore. Our goal is to present a race program that fans will be intereste
 d in watching and racers will want to participate in. There will be pl
 enty of racing on this weekend. Don't worry, Darlington Dragway carrie
 s plenty of VP fuel & deep fried turkey legs.\nOvernight stay is avail
 able inside the track's infield all weekend. Infield gates will open 
 at 3pm on Friday for all racers & car show participants to come and se
 tup. TNT sessions begin around 5pm. Click here for more details on t
 rack & area lodging.\nIf you have any questions about entering your ca
 r in the drag race portion of the Palmetto Nationals, please don't hes
 itate to contact us.\nVisit www.palmettonationals.com for more detail
 s.\n\nFor more information visit https://www.southeastwheelsevents.com
 /events/palmetto-nationals-at
DTSTART;TZID=Pacific/Midway:20121012T000000
DTEND;TZID=Pacific/Midway:20121013T235900
CATEGORIES:drag, race, "&", car, show
LOCATION:Darlington Dragway
WEBSITE:http://www.palmettonationals.com
URL:http://www.palmettonationals.com
CONTACT:8033613362
ORGANIZER;CN="Frog Jones":https://www.southeastwheelsevents.com/profil
 e/FrogJones
ATTACH;FMTTYPE="image/jpeg":http://storage.ning.com/topology/rest/1.0/
 file/get/967587763?profile=original
ATTENDEE;ROLE=REQ-PARTICIPANT;PARTSTAT=ACCEPTED;RSVP=TRUE;CN="Frog Jon
 es":https://www.southeastwheelsevents.com/profile/FrogJones
END:VEVENT
END:VCALENDAR
