BEGIN:VCALENDAR
PRODID:NingEventWidget-v1
VERSION:2.0
METHOD:PUBLISH
BEGIN:VTIMEZONE
TZID:Pacific/Midway
X-LIC-LOCATION:Pacific/Midway
BEGIN:STANDARD
TZOFFSETFROM:-1100
TZOFFSETTO:-1100
TZNAME:SST
DTSTART:19700101T000000
END:STANDARD
END:VTIMEZONE
BEGIN:VEVENT
UID:5072275:Event:1025216
DTSTAMP:20260420T180945Z
SUMMARY:Palmetto Region PCA Breakfast at Sunflower Cafe
DESCRIPTION:Palmetto Region PCA Breakfast at Sunflower Cafe. Event sta
 rts at 8.00 am and ends at 9.30 am.\n\nFor more information visit http
 s://www.southeastwheelsevents.com/events/palmetto-region-pca-breakfast
 -at-sunflower-cafe-1
DTSTART;TZID=Pacific/Midway:20161224T200000
DTEND;TZID=Pacific/Midway:20161224T213000
CATEGORIES:cars, "clubs/shows/cruises"
LOCATION:Sunflower Cafe Pierpont Shopping Center
WEBSITE:http://www.pcapalmetto.org/calendar#year=2016&month=4&day=1&vi
 ew=month
URL:http://www.pcapalmetto.org/calendar#year=2016&month=4&day=1&view=m
 onth
CONTACT:
ORGANIZER:Palmetto Region PCA
ATTACH;FMTTYPE="image/jpeg":http://storage.ning.com/topology/rest/1.0/
 file/get/967716701?profile=original
ATTENDEE;ROLE=REQ-PARTICIPANT;PARTSTAT=ACCEPTED;RSVP=TRUE;CN="Chris go
 sney":https://www.southeastwheelsevents.com/profile/Chrisgosney
END:VEVENT
END:VCALENDAR
