BEGIN:VCALENDAR
PRODID:NingEventWidget-v1
VERSION:2.0
METHOD:PUBLISH
BEGIN:VTIMEZONE
TZID:Pacific/Midway
X-LIC-LOCATION:Pacific/Midway
BEGIN:STANDARD
TZOFFSETFROM:-1100
TZOFFSETTO:-1100
TZNAME:SST
DTSTART:19700101T000000
END:STANDARD
END:VTIMEZONE
BEGIN:VEVENT
UID:5072275:Event:1059744
DTSTAMP:20260424T004752Z
SUMMARY:Path of Hope's Annual Ride for Recovery -Lexington, NC
DESCRIPTION:Path of Hope is holding their Fifth Annual Motorcycle Ride
  for Recovery. Please join us on Saturday August 5, 2017 for food, fel
 lowship, and motorcycles! We will meet at Path of Hope and make a roun
 d trip ride to Dan Nicholas Park. Breakfast, snacks, and lunch will be
  provided for participants. The first 150 registrants also receive a F
 REE Path of Hope ride t-shirt.\n\nFor more information visit https://w
 ww.southeastwheelsevents.com/events/path-of-hope-s-annual-ride-for-rec
 overy-lexington-nc
DTSTART;TZID=Pacific/Midway:20170805T080000
DTEND;TZID=Pacific/Midway:20170805T170000
CATEGORIES:motorcycle, bike, benfit, show
LOCATION:Path of Hope
WEBSITE:http://www.apathofhope.org/
URL:http://www.apathofhope.org/
CONTACT:(336) 248-8914
ORGANIZER:Path of Hope
ATTACH;FMTTYPE="image/jpeg":http://storage.ning.com/topology/rest/1.0/
 file/get/967750209?profile=original
ATTENDEE;ROLE=REQ-PARTICIPANT;PARTSTAT=ACCEPTED;RSVP=TRUE;CN="Chuck Aa
 ron":https://www.southeastwheelsevents.com/profile/ChuckAaron886
END:VEVENT
END:VCALENDAR
