BEGIN:VCALENDAR
PRODID:NingEventWidget-v1
VERSION:2.0
METHOD:PUBLISH
BEGIN:VTIMEZONE
TZID:Pacific/Midway
X-LIC-LOCATION:Pacific/Midway
BEGIN:STANDARD
TZOFFSETFROM:-1100
TZOFFSETTO:-1100
TZNAME:SST
DTSTART:19700101T000000
END:STANDARD
END:VTIMEZONE
BEGIN:VEVENT
UID:5072275:Event:1052912
DTSTAMP:20260423T171732Z
SUMMARY:Peach State Cadillac and LaSalle Club
DESCRIPTION:Cadillac of Lake Lanier to Support American Vet Dogs\n\nFo
 r more information visit https://www.southeastwheelsevents.com/events/
 peach-state-cadillac-and-lasalle-club
DTSTART;TZID=Pacific/Midway:20170624T100000
DTEND;TZID=Pacific/Midway:20170624T150000
CATEGORIES:car, show
LOCATION:Cadillac of Lake Lanier
WEBSITE:
URL:
CONTACT:678-880-4345
ORGANIZER:Tom Di Nucci
ATTACH;FMTTYPE="image/jpeg":http://storage.ning.com/topology/rest/1.0/
 file/get/967747513?profile=original
ATTENDEE;ROLE=REQ-PARTICIPANT;PARTSTAT=ACCEPTED;RSVP=TRUE;CN="Lee Gosn
 ey":https://www.southeastwheelsevents.com/profile/LeeGosney
END:VEVENT
END:VCALENDAR
