BEGIN:VCALENDAR
PRODID:NingEventWidget-v1
VERSION:2.0
METHOD:PUBLISH
BEGIN:VTIMEZONE
TZID:Pacific/Midway
X-LIC-LOCATION:Pacific/Midway
BEGIN:STANDARD
TZOFFSETFROM:-1100
TZOFFSETTO:-1100
TZNAME:SST
DTSTART:19700101T000000
END:STANDARD
END:VTIMEZONE
BEGIN:VEVENT
UID:5072275:Event:1268003
DTSTAMP:20260422T202249Z
SUMMARY:Peachstate Packards Pig Roast -Tucker, GA
DESCRIPTION:\r\n\r\n\r\n\r\n\r\n\r\nI\r\n\r\nPeachState Packards\r\n\r
 \nFor something new to get Packards to the Packard meet, all Packards 
 will be eligible for a drawing to win a $50 cash prize. So get those P
 ackards out! Plan to arrive around 10:30 for tire kicking, Lunch at no
 on, followed by a short meeting and auction. So bring items to Auction
 ! Remember, it does not have to be auto related. Please RSVP or call M
 ark Nichols at 770-337-8329. Plan to bring what you normally bring. Th
 ere will be a 50/50 and other prizes. Look forward to seeing you on Ma
 y 3rd.\r\n\r\n\r\n\n\nFor more information visit https://www.southeast
 wheelsevents.com/events/peachstate-packards-pig-roast-tucker-ga
DTSTART;TZID=Pacific/Midway:20250503T100000
DTEND;TZID=Pacific/Midway:20250503T150000
CATEGORIES:car, sgow, meeting, picnic
LOCATION:Stable of Thoroughbreds
WEBSITE:https://www.evite.com/event/00FBN7FQVFRTVEDACEPQEOUSKQTUAY?gid
 =01AEBXAB3G4WRAQ3AEPQEO3Y6K6LZI
URL:https://www.evite.com/event/00FBN7FQVFRTVEDACEPQEOUSKQTUAY?gid=01A
 EBXAB3G4WRAQ3AEPQEO3Y6K6LZI
CONTACT:
ORGANIZER:
ATTACH;FMTTYPE="image/jpeg":https://storage.ning.com/topology/rest/1.0
 /file/get/13535360283?profile=original
ATTENDEE;ROLE=REQ-PARTICIPANT;PARTSTAT=ACCEPTED;RSVP=TRUE;CN="Richard 
 A Hickok":https://www.southeastwheelsevents.com/profile/RichardAHickok
ATTENDEE;ROLE=REQ-PARTICIPANT;PARTSTAT=ACCEPTED;RSVP=TRUE;CN="Michael 
 Thies":https://www.southeastwheelsevents.com/profile/MichaelThies
END:VEVENT
END:VCALENDAR
