BEGIN:VCALENDAR
PRODID:NingEventWidget-v1
VERSION:2.0
METHOD:PUBLISH
BEGIN:VTIMEZONE
TZID:Pacific/Midway
X-LIC-LOCATION:Pacific/Midway
BEGIN:STANDARD
TZOFFSETFROM:-1100
TZOFFSETTO:-1100
TZNAME:SST
DTSTART:19700101T000000
END:STANDARD
END:VTIMEZONE
BEGIN:VEVENT
UID:5072275:Event:738445
DTSTAMP:20260422T224919Z
SUMMARY:Peachstate PCA Club Race and Advanced Solo DE -Braselton, GA
DESCRIPTION:Peachstate PCA Club Race and Advanced Solo DE\nJoin us Mar
 ch 27-29 as Peachstate Region celebrates our 23nd year of Club Racing 
 at Road Atlanta by including a 3-day Advanced Solo DE!\nMark your cale
 ndars now. Join us as Peachstate Region celebrates our 23nd year of Cl
 ub Racing at Road Atlanta by including a 3-day Advanced Solo DE!\nThis
  3-day Advanced Solo DE, run concurrently Friday through Sunday with t
 he Peachstate '225' Club Race, includes 10 \"regular length\" sessions
  and a \"DE Enduro\" session on Sunday afternoon. No instructors avail
 able, no shared entry or single day options. This event is for drivers
  with proven advanced solo or instructor history, who are comfortable 
 running in an expanded passing environment. If you have not run with P
 eachstate in our groups 4 & 5, we may ask for driving resume and/or co
 nfirmation from your Region's chief instructor before accepting your e
 ntry.\nRegistration will open on www.clubregistration.net February 9
 th at 9PM CST. See you at the track!\n\nVolunteers Needed! Information
  is here.\n\n\nFor more information visit https://www.southeastwheels
 events.com/events/peachstate-pca-autocross-1-braselton-ga
DTSTART;TZID=Pacific/Midway:20150327T000000
DTEND;TZID=Pacific/Midway:20150329T235900
CATEGORIES:race, autocross, training-school
LOCATION:Road Atlanta
WEBSITE:http://peachstatepca.org/Articles/Article/246
URL:http://peachstatepca.org/Articles/Article/246
CONTACT:www.ClubRegistration.net. sbmackie@msn.com 678-629-6996
ORGANIZER:Peachstate Region Porsche Club of America
ATTACH;FMTTYPE="image/jpeg":http://storage.ning.com/topology/rest/1.0/
 file/get/967656057?profile=original
ATTENDEE;ROLE=REQ-PARTICIPANT;PARTSTAT=ACCEPTED;RSVP=TRUE;CN="Michael 
 Thies":https://www.southeastwheelsevents.com/profile/MichaelThies
END:VEVENT
END:VCALENDAR
