BEGIN:VCALENDAR
PRODID:NingEventWidget-v1
VERSION:2.0
METHOD:PUBLISH
BEGIN:VTIMEZONE
TZID:Pacific/Midway
X-LIC-LOCATION:Pacific/Midway
BEGIN:STANDARD
TZOFFSETFROM:-1100
TZOFFSETTO:-1100
TZNAME:SST
DTSTART:19700101T000000
END:STANDARD
END:VTIMEZONE
BEGIN:VEVENT
UID:5072275:Event:1178428
DTSTAMP:20260422T034645Z
SUMMARY:Peachstate PCA Concours -Chamblee GA
DESCRIPTION:Porsche Concours - SPECTATORS ARE FREE!\r\n\r\nAnd Yes, At
 tention Porsche Concours enthusiasts. You are invited to register to a
 ttend our Concours event.\r\nThe Concours entry fee is only $25 per ea
 ch participating Porsche if you pre-register. The registration fee is 
 $30 if you register on the day of the event.\r\nPlease pre-register an
 d plan to participate in the \"Street Class\" or \"Touring Class.\" Fo
 r Concours participation, you will need to provide the YEAR and MOD
 EL of the Porsche you are entering, the CLASS in which you plan to 
 compete, and your CELL PHONE NUMBER\r\nThe Concours cars will be insi
 de at Hennessy Porshe We will open for staging and sign-in on site at 
 9:00 am. Judging is scheduled to begin at 12:30 pm.\r\n\r\nVolunteers 
 are needed to help with Parking, Judging, and Timing.\n\nFor more info
 rmation visit https://www.southeastwheelsevents.com/events/peachstate-
 pca-concours-cumming-ga
DTSTART;TZID=Pacific/Midway:20230326T083000
DTEND;TZID=Pacific/Midway:20230326T143000
CATEGORIES:cars, "clubs/shows/cruises", concours
LOCATION:Distillery of Modern Art
WEBSITE:http://peachstatepca.org/
URL:http://peachstatepca.org/
CONTACT:Dan DeRiemer https://peachstatepca.org/mail/88
ORGANIZER:Peachstate Porsche Club of America
ATTACH;FMTTYPE="image/jpeg":http://storage.ning.com/topology/rest/1.0/
 file/get/967736856?profile=original
ATTENDEE;ROLE=REQ-PARTICIPANT;PARTSTAT=ACCEPTED;RSVP=TRUE;CN="Chuck Aa
 ron":https://www.southeastwheelsevents.com/profile/ChuckAaron886
END:VEVENT
END:VCALENDAR
