BEGIN:VCALENDAR
PRODID:NingEventWidget-v1
VERSION:2.0
METHOD:PUBLISH
BEGIN:VTIMEZONE
TZID:Pacific/Midway
X-LIC-LOCATION:Pacific/Midway
BEGIN:STANDARD
TZOFFSETFROM:-1100
TZOFFSETTO:-1100
TZNAME:SST
DTSTART:19700101T000000
END:STANDARD
END:VTIMEZONE
BEGIN:VEVENT
UID:5072275:Event:1242337
DTSTAMP:20260423T200235Z
SUMMARY:Peachstate PCA \"Drive Toward A Cure\" Rally -Alpharetta, GA t
 o \"The Savoy\"
DESCRIPTION:\r\n\r\n\r\n\r\n\r\nPeachstate PCA is proud to offer Dri
 ve Toward A Cure as a charity fundraiser benefiting the Parkinson’
 s Disease Comprehensive Care Clinic at Emory Udall Parkinson’s Dis
 ease Center in Atlanta. If you did this tour last year you know we ra
 ised $5,300 in the event and we hope to surpass that amount this year.
 \r\n\r\n\r\n\r\nThe tour will take place on February 11, 2023, with a
 n alternate date to be selected later in the event of inclement weathe
 r. The tour's primary destination will be the Savoy Automotive Museum
  where we will have lunch and a docent-lead tour of their galleri
 es. They change the displays frequently, so you won’t see the same t
 hing as last year. We will make an additional surprise stop on the w
 ay there, and we will take an interesting route to drive some of nort
 h Georgia’s best mountain roads along the way.\r\nWe would love to 
 see as many Porsches as possible. However, driving a Porsche for this 
 tour is not required. We will follow all the normal PCA driving standa
 rds for this tour. RideWithGPS turn-by-turn instructions will be avail
 able through the free smart phone app and we will drive in groups of 8
 -12 cars with leads and sweeps in each group. Printed turn-by-turn ins
 tructions will also be available.\r\nSign-in: 8:30 am sharp inside at 
 Gateway Classic Cars located at 1870 McFarland Parkway Suite 300 in Al
 pharetta, GA 30005. Drive Start: 9:00 am following a brief discussion
  of the route and any last minute details.\r\nEvent registration will 
 close on 2/5/2023.\r\nConsider being a Gold Donor in the spirit of th
 e tour: That’s a $100 tax deductible donation per person to support 
 a truly worthy cause! Of course you can add more to the donation amoun
 t if you would like to provide additional support.\r\nThanks to these 
 event sponsors:\r\n\r\n\r\n\r\n\r\n\n\nFor more information visit http
 s://www.southeastwheelsevents.com/events/peachstate-pca-drive-toward-a
 -cure-rally-alpharetta-ga-to-the
DTSTART;TZID=Pacific/Midway:20230211T083000
DTEND;TZID=Pacific/Midway:20230211T150000
CATEGORIES:rally, tour, car-show, cruise-in, fundraiser, benefit, driv
 e, porsche, peachstate
LOCATION:Starts at Gateway Classic Cars
WEBSITE:https://www.drivetowardacure.org/day/peachstate23
URL:https://www.drivetowardacure.org/day/peachstate23
CONTACT:Mike Thies 770-883-0160 GAServices62@gmail.com
ORGANIZER:Drive Toward a Cure - A 501(c)(3) Non Profit Organization
ATTACH;FMTTYPE="image/jpeg":https://storage.ning.com/topology/rest/1.0
 /file/get/8030257867?profile=original
ATTENDEE;ROLE=REQ-PARTICIPANT;PARTSTAT=ACCEPTED;RSVP=TRUE;CN="Michael 
 Thies":https://www.southeastwheelsevents.com/profile/MichaelThies
ATTENDEE;ROLE=REQ-PARTICIPANT;PARTSTAT=ACCEPTED;RSVP=TRUE;CN="Chuck Aa
 ron":https://www.southeastwheelsevents.com/profile/ChuckAaron886
ATTENDEE;ROLE=REQ-PARTICIPANT;PARTSTAT=TENTATIVE;RSVP=TRUE;CN="Bill Ed
 mondson":https://www.southeastwheelsevents.com/profile/BillEdmondson
END:VEVENT
END:VCALENDAR
