BEGIN:VCALENDAR
PRODID:NingEventWidget-v1
VERSION:2.0
METHOD:PUBLISH
BEGIN:VTIMEZONE
TZID:Pacific/Midway
X-LIC-LOCATION:Pacific/Midway
BEGIN:STANDARD
TZOFFSETFROM:-1100
TZOFFSETTO:-1100
TZNAME:SST
DTSTART:19700101T000000
END:STANDARD
END:VTIMEZONE
BEGIN:VEVENT
UID:5072275:Event:1086007
DTSTAMP:20260422T015129Z
SUMMARY:Peachstate PCA Porsches and Coffee Alpharetta, GA
DESCRIPTION:\"Caffeine & Chrome\" will feature Porsche Club of Americ
 a in July. Gateway will donate $10 per car (up to $200) toward Peachst
 ate PCA charities and participating cars receive a goodie bag. Registr
 ation will open in June.\r\n \r\nCalling all Classic Porsches! Dictio
 nary says a classic is at least 20 years old. Air-cooled, water-cooled
  - 924, 928, 344, 968. The first Boxster rolled out in 1997...come out
  and show us what a classic looks like!\r\n \r\nAll Porsches are wel
 come, FREE and open to the public, family and pet friendly, coffee an
 d pastries.\r\n \r\nGateway Classic Cars of Atlanta\r\n1870 McFarland
  Pkwy Ste 300, Alpharetta, GA 30005\r\n9:00 a.m. - 12:00 noon  \n\nF
 or more information visit https://www.southeastwheelsevents.com/events
 /peachstate-pca-porsches-and-coffee-atlanta-ga
DTSTART;TZID=Pacific/Midway:20220730T090000
DTEND;TZID=Pacific/Midway:20220730T120000
CATEGORIES:cars, "clubs/shows/cruises"
LOCATION:Gateway Classic Cars of Atlanta
WEBSITE:http://peachstatepca.org/
URL:http://peachstatepca.org/
CONTACT:https://www.peachstatepca.org/Social/16833
ORGANIZER:Porsche Club of America
ATTACH;FMTTYPE="image/jpeg":http://storage.ning.com/topology/rest/1.0/
 file/get/967736856?profile=original
ATTENDEE;ROLE=REQ-PARTICIPANT;PARTSTAT=ACCEPTED;RSVP=TRUE;CN="Chuck Aa
 ron":https://www.southeastwheelsevents.com/profile/ChuckAaron886
END:VEVENT
END:VCALENDAR
