BEGIN:VCALENDAR
PRODID:NingEventWidget-v1
VERSION:2.0
METHOD:PUBLISH
BEGIN:VTIMEZONE
TZID:Pacific/Midway
X-LIC-LOCATION:Pacific/Midway
BEGIN:STANDARD
TZOFFSETFROM:-1100
TZOFFSETTO:-1100
TZNAME:SST
DTSTART:19700101T000000
END:STANDARD
END:VTIMEZONE
BEGIN:VEVENT
UID:5072275:Event:972655
DTSTAMP:20260424T142653Z
SUMMARY:Peachstate Region PCA Rally School - 2016 -Roswell, GA
DESCRIPTION:\nRally School - 2016\n\n\n\n\n\nHave you ever wanted to t
 ry a Rally, but concerned that you don't know the rules, and afraid th
 at you might get plain embarrassed - or worse - get lost somehow? We h
 ave just the solution for you: the Peachstate Rally School. We've desi
 gned the Rally School specifically for first-time rallyists, although 
 more experienced rallyists are welcome also. Find out why so many Pors
 che owners love the low-key competition of driving their Porsche in an
 d around beautiful countryside winding roads that they may otherwise n
 ever get to enjoy. And find out why rallying is such a fun mental chal
 lenge for both driver and navigator, and such a fun way to spend a few
  hours on a weekend.\nThe 2016 Rally School will be held on Sunday, Ap
 ril 24th at the Chatsworth Clubhouse in East Cobb county. Sign in begi
 ns at 1:00 pm and School starts promptly at 1:30 pm. In the Peachstate
  Region, all of our Rallies are TSD (Time, Speed, Distance) and based 
 on the Peachstate Rally Generals here. To really enjoy the competiti
 on and have fun on a TSD Rally, the participants should have a basic u
 nderstanding of the Rally General Instructions and how to apply them. 
 In addition, be sure to preview the Peachstate Rally School in 12 less
 ons on video on the website here. If you have never been on a Rally, 
 or if you would like to brush up on the rules of this game, the Rally 
 School may be just what you're looking for. We'll give you the knowled
 ge and tools to help maximize your enjoyment of rallying. But be forew
 arned: you might get hooked on rallying!\nThe Rally School consists of
  about 60-90 minutes of classroom instruction, followed by \"hands-on\
 " learning in the form of experiencing a brief rally, where the rally 
 team can apply some of the information just learned. Although we would
  like for you to bring your Porsche, in Peachstate Rally events, membe
 rs may participate in any brand of vehicle. (But you won't have as muc
 h fun!) The Rally School and practice Rally will begin and end at the 
 Chatsworth Clubhouse, followed by a short debriefing session and BBQ f
 rom G. C. Bar-B-Que. (BYOB for the Social).\nDate / Time Sunday, Apri
 l 24th Registration begins at 1:00 pm with School starting promptly at
  1:30 pm.\nPlace Chatsworth Clubhouse - 4456 Derwent Dr, Roswell, GA 
 30075\nCost $15 per Rally Team\nWhat to Bring Your car, with a full 
 tank of gas, a clipboard, pencils, a timepiece (digital is best), a pr
 inted copy of the Rally Generals from the website. BYOB for the Social
  afterwards.\nHope to see you April 24th at 1:00 pm!\nJames Lyle and A
 my Kremer\nRSVP here.\n\n\n\n\n\nFor more information visit https://w
 ww.southeastwheelsevents.com/events/peachstate-region-pca-rally-school
 -2016-roswell-ga
DTSTART;TZID=Pacific/Midway:20160424T130000
DTEND;TZID=Pacific/Midway:20160424T180000
CATEGORIES:road, rally, school
LOCATION:Chatsworth Clubhouse in East Cobb
WEBSITE:http://www.peachstatepca.org/Rally/73
URL:http://www.peachstatepca.org/Rally/73
CONTACT:James Lyle and Amy Kremer http://www.peachstatepca.org/mail/-1
 /12
ORGANIZER:Peachstate Region Porsche Club of America
ATTACH;FMTTYPE="image/jpeg":http://storage.ning.com/topology/rest/1.0/
 file/get/967571612?profile=original
ATTENDEE;ROLE=REQ-PARTICIPANT;PARTSTAT=ACCEPTED;RSVP=TRUE;CN="Michael 
 Thies":https://www.southeastwheelsevents.com/profile/MichaelThies
END:VEVENT
END:VCALENDAR
