BEGIN:VCALENDAR
PRODID:NingEventWidget-v1
VERSION:2.0
METHOD:PUBLISH
BEGIN:VTIMEZONE
TZID:Pacific/Midway
X-LIC-LOCATION:Pacific/Midway
BEGIN:STANDARD
TZOFFSETFROM:-1100
TZOFFSETTO:-1100
TZNAME:SST
DTSTART:19700101T000000
END:STANDARD
END:VTIMEZONE
BEGIN:VEVENT
UID:5072275:Event:685300
DTSTAMP:20260422T212939Z
SUMMARY:Peachstate Region PCA/SCCA Autocross -Hampton, GA
DESCRIPTION:\r\nAutocross Sponsored by Four Hats Inc and Kelly Auto
 motive: Champions Lot at Atlanta Motor Speedway, HamptonThe October 17
  autocross event is now October 31 and a joint event with BMW. We wil
 l be allowing 40 PCA registrants. Please use this link at ClubReg to
  register.\r\nAutocross is a timed event taking place at the gigantic
  parking lot of Atlanta Motor Speedway and is one of the safest ways 
 of getting to know the limits of your car.  Click this link for mor
 e details.Entry for each event is only $50 for members and is limit
 ed to 40 entrants. These events fill up quickly so don't wait to regi
 ster.  All participants must pre-register (and pre-pay) at www.Club
 Registration.net.  We can no longer accept walk-up registrations on d
 ay of the event.This is a very safe event in this COVID-era because of
  the ease of social distancing. We will also use the AMS restroom faci
 lity instead of a porta-jon, so we encourage everyone to come out an
 d see what their car can really do.8:00 am - On-Site Check-in Begins
 8:00 am - 8:50 am - Course Walk Available9:00 am - Mandatory Drivers M
 eeting9:30 am - First Car on Course\n\nFor more information visit http
 s://www.southeastwheelsevents.com/events/peachstate-region-pca-scca-au
 tocross-hampton-ga
DTSTART;TZID=Pacific/Midway:20211024T080000
DTEND;TZID=Pacific/Midway:20211024T170000
CATEGORIES:autocross, car, show, race
LOCATION:Atlanta Motor Speedway
WEBSITE:http://www.peachstatepca.org
URL:http://www.peachstatepca.org
CONTACT:404-483-3345
ORGANIZER:Peachstate Region Porsche Club of America
ATTACH;FMTTYPE="image/jpeg":http://storage.ning.com/topology/rest/1.0/
 file/get/967580601?profile=original
ATTENDEE;ROLE=REQ-PARTICIPANT;PARTSTAT=ACCEPTED;RSVP=TRUE;CN="Jack Tho
 mas":https://www.southeastwheelsevents.com/profile/JackThomas
END:VEVENT
END:VCALENDAR
