BEGIN:VCALENDAR
PRODID:NingEventWidget-v1
VERSION:2.0
METHOD:PUBLISH
BEGIN:VTIMEZONE
TZID:Pacific/Midway
X-LIC-LOCATION:Pacific/Midway
BEGIN:STANDARD
TZOFFSETFROM:-1100
TZOFFSETTO:-1100
TZNAME:SST
DTSTART:19700101T000000
END:STANDARD
END:VTIMEZONE
BEGIN:VEVENT
UID:5072275:Event:825053
DTSTAMP:20260425T024521Z
SUMMARY:Peanut Boil Festival Car & Motorcycle Show -Luverne, AL
DESCRIPTION:5th Annual Peanut Boil Festival, Arts & Crafts, Car & Moto
 rcycle Show -Luverne, AL\n\nFor more information visit https://www.sou
 theastwheelsevents.com/events/peanut-boil-festival-car-motorcycle-show
 -luverne-al
DTSTART;TZID=Pacific/Midway:20150926T090000
DTEND;TZID=Pacific/Midway:20150926T130000
CATEGORIES:festival, "&", car, show
LOCATION:Highway 331 & Highway 10
WEBSITE:
URL:
CONTACT:334-335-4468
ORGANIZER:Peanut Boil Festival
ATTACH;FMTTYPE="image/jpeg":http://storage.ning.com/topology/rest/1.0/
 file/get/967670619?profile=original
ATTENDEE;ROLE=REQ-PARTICIPANT;PARTSTAT=ACCEPTED;RSVP=TRUE;CN="Chuck Aa
 ron":https://www.southeastwheelsevents.com/profile/ChuckAaron
END:VEVENT
END:VCALENDAR
