BEGIN:VCALENDAR
PRODID:NingEventWidget-v1
VERSION:2.0
METHOD:PUBLISH
BEGIN:VTIMEZONE
TZID:Pacific/Midway
X-LIC-LOCATION:Pacific/Midway
BEGIN:STANDARD
TZOFFSETFROM:-1100
TZOFFSETTO:-1100
TZNAME:SST
DTSTART:19700101T000000
END:STANDARD
END:VTIMEZONE
BEGIN:VEVENT
UID:5072275:Event:896620
DTSTAMP:20260425T020532Z
SUMMARY:Pep Boys Speed Shop 2nd Anniversary Car Show
DESCRIPTION:open car show, free entry, family fun for all!\n\nFor more
  information visit https://www.southeastwheelsevents.com/events/pep-bo
 ys-speed-shop-2nd-anniversary-car-show
DTSTART;TZID=Pacific/Midway:20150606T100000
DTEND;TZID=Pacific/Midway:20150606T140000
CATEGORIES:car, show
LOCATION:pep boys
WEBSITE:
URL:
CONTACT:843-744-7831
ORGANIZER;CN="pep boys speed shop":https://www.southeastwheelsevents.c
 om/profile/pepboysspeedshop
ATTACH;FMTTYPE="image/jpeg":
ATTENDEE;ROLE=REQ-PARTICIPANT;PARTSTAT=ACCEPTED;RSVP=TRUE;CN="pep boys
  speed shop":https://www.southeastwheelsevents.com/profile/pepboysspee
 dshop
END:VEVENT
END:VCALENDAR
