BEGIN:VCALENDAR
PRODID:NingEventWidget-v1
VERSION:2.0
METHOD:PUBLISH
BEGIN:VTIMEZONE
TZID:Pacific/Midway
X-LIC-LOCATION:Pacific/Midway
BEGIN:STANDARD
TZOFFSETFROM:-1100
TZOFFSETTO:-1100
TZNAME:SST
DTSTART:19700101T000000
END:STANDARD
END:VTIMEZONE
BEGIN:VEVENT
UID:5072275:Event:964412
DTSTAMP:20260423T054448Z
SUMMARY:PEP-BOYS SUMMER 16 SERIES - Car, Truck & Bike Show
DESCRIPTION:PEP-BOYS, and DJ JEFF    Are TEAMING UP - To bring you t
 he  PEP-BOYS SUMMER '16 SHOW SERIES\nWinding up the season, for this 
 series - as ALWAYS, PROFESSIONALLY JUDGED - 25 Trophy's available - $2
 Burgers & $1 Dogs, come JOIN us, for a GREAT DAY ! ! !  REGISTRATION -
  $20 AWARDS         BEST - Ford -  Mustang -  Chevy - Camaro - 
 BOPC - MOPAR - Truck – Rat Rod – Hot Rod – Bike - Classiest Uncl
 assified, and MORE Club Participation BEST OF SHOW   -   PEP-BOYS 
 PICK  Door Prizes – Music – Food - 50/50 Info - Jeff Rutherford - 
 770-331-4692\nTHE LINE UP: (All PEP-Boys locations)  09/24 - 3965 Lawr
 enceville Hwy NW, Lilburn, GA 10/01 - 1531 Cobb Pkwy S, Marietta, GA 1
 0/29 - 3638 Cobb Pkwy N, Acworth, GA HALLOWEEN SPECIAL AWARDS - Best C
 ostume - BEST DISPLAY 11/05 - 589 W Pike St, Lawrenceville, GA All sho
 ws 11am - 4pm - Registration cut off - 2:30 pm INFO - Jeff Rutherford 
 - 770-331-4692\n\nFor more information visit https://www.southeastwhee
 lsevents.com/events/pep-boys-summer-16-series-car-truck-bike-show-10
DTSTART;TZID=Pacific/Midway:20160924T110000
DTEND;TZID=Pacific/Midway:20160924T160000
CATEGORIES:car, truck, "&", bike, show
LOCATION:PEP-BOYS
WEBSITE:
URL:
CONTACT:770-331-4692
ORGANIZER:Rutherford Entertainment - Jeff Rutherford
ATTACH;FMTTYPE="image/jpeg":http://storage.ning.com/topology/rest/1.0/
 file/get/967702926?profile=original
ATTENDEE;ROLE=REQ-PARTICIPANT;PARTSTAT=ACCEPTED;RSVP=TRUE;CN="Jeffrey 
 Rutherford":https://www.southeastwheelsevents.com/profile/JeffreyRuthe
 rford866
ATTENDEE;ROLE=REQ-PARTICIPANT;PARTSTAT=TENTATIVE;RSVP=TRUE;CN="Bill mu
 sarra":https://www.southeastwheelsevents.com/profile/billmusarra
ATTENDEE;ROLE=REQ-PARTICIPANT;PARTSTAT=TENTATIVE;RSVP=TRUE;CN="Rodney 
 Wallin":https://www.southeastwheelsevents.com/profile/Rodneywallin
END:VEVENT
END:VCALENDAR
