BEGIN:VCALENDAR
PRODID:NingEventWidget-v1
VERSION:2.0
METHOD:PUBLISH
BEGIN:VTIMEZONE
TZID:Pacific/Midway
X-LIC-LOCATION:Pacific/Midway
BEGIN:STANDARD
TZOFFSETFROM:-1100
TZOFFSETTO:-1100
TZNAME:SST
DTSTART:19700101T000000
END:STANDARD
END:VTIMEZONE
BEGIN:VEVENT
UID:5072275:Event:964415
DTSTAMP:20260424T150115Z
SUMMARY:PEP-BOYS SUMMER 16 SERIES - Car, Truck & Bike Show -Marietta, 
 GA
DESCRIPTION:PEP-BOYS, and DJ JEFF    Are TEAMING UP - To bring you t
 he\n PEP-BOYS SUMMER '16 SHOW SERIES\n14 GREAT shows, at 8 GREAT \nPE
 P-BOYS locations\nAll shows PROFESSIONALLY judged\nREGISTRATION - $20\
 n25 TROPHYS - Including\nBEST OF SHOW   -   PEP-BOYS PICK -     
                     PEOPLES CHOICE     \nDoor Priz
 es – Music – Food - 50/50\nInfo - Jeff Rutherford - 770-331-4692\n
 Counting 'em down, folks...DON'T MISS OUT!\nTHE LINE UP: (All PEP-Boys
  locations) \n10/01 - 1531 Cobb Pkwy S, Marietta, GA\n10/29 - 3638 Cob
 b Pkwy N, Acworth, GA\nHALLOWEEN SPECIAL AWARDS - Best Costume - BEST 
 DISPLAY\n11/05 - 589 W Pike St, Lawrenceville, GA\nAll shows 11am - 4p
 m - Registration cut off - 2:30 pm\nINFO - Jeff Rutherford - 770-331-4
 692\n\nFor more information visit https://www.southeastwheelsevents.co
 m/events/pep-boys-summer-16-series-car-truck-bike-show-11
DTSTART;TZID=Pacific/Midway:20161001T110000
DTEND;TZID=Pacific/Midway:20161001T160000
CATEGORIES:car, truck, "&", bike, show
LOCATION:PEP-BOYS
WEBSITE:
URL:
CONTACT:770-331-4692
ORGANIZER:Rutherford Entertainment - Jeff Rutherford
ATTACH;FMTTYPE="image/jpeg":http://storage.ning.com/topology/rest/1.0/
 file/get/967702565?profile=original
ATTENDEE;ROLE=REQ-PARTICIPANT;PARTSTAT=ACCEPTED;RSVP=TRUE;CN="Jeffrey 
 Rutherford":https://www.southeastwheelsevents.com/profile/JeffreyRuthe
 rford866
ATTENDEE;ROLE=REQ-PARTICIPANT;PARTSTAT=ACCEPTED;RSVP=TRUE;CN="robbie p
 adgett":https://www.southeastwheelsevents.com/profile/robbiepadgett
END:VEVENT
END:VCALENDAR
