BEGIN:VCALENDAR
PRODID:NingEventWidget-v1
VERSION:2.0
METHOD:PUBLISH
BEGIN:VTIMEZONE
TZID:Pacific/Midway
X-LIC-LOCATION:Pacific/Midway
BEGIN:STANDARD
TZOFFSETFROM:-1100
TZOFFSETTO:-1100
TZNAME:SST
DTSTART:19700101T000000
END:STANDARD
END:VTIMEZONE
BEGIN:VEVENT
UID:5072275:Event:975962
DTSTAMP:20260423T162707Z
SUMMARY:PEP-BOYS SUMMER 16 SERIES - Car, Truck & Bike Show - ATHENS, G
 A
DESCRIPTION:Â Â  PEP-BOYS, and DJ JEFFÂ  Â  Are TEAMING UP - To bring 
 you the Â PEP-BOYS SUMMER '16 SHOW SERIES 14 GREAT shows, at 8 GREAT  
 PEP-BOYS locations All shows PROFESSIONALLY judged REGISTRATION - $20 
 AWARDS Top 10,  Â Â Â Â  BEST - Ford - Chevy - BOPC - MOPAR - Truck â€
 “ Rat Rod â€“ Hot Rod â€“ Bike Club Participation BEST OF SHOWÂ Â  -Â 
 Â  PEP-BOYS PICK  Door Prizes â€“ Music â€“ Food - 50/50 Info - Jeff R
 utherford - 770-331-4692\nÂ Â  THE LINE UP: (All PEP-Boys locations)  
 08/06 - 3702 Atlanta Hwy, Athens, GA 08/20 - 3965 Lawrenceville Hwy, N
 W - Lilburn, GA 09/03 - 3702 Atlanta Hwy, Athens, GA 09/24 - 3965 Lawr
 enceville Hwy NW, Lilburn, GA 10/01 - 1531 Cobb Pkwy S, Marietta, GA 1
 0/29 - 3638 Cobb Pkwy N, Acworth, GA HALLOWEEN SPECIAL AWARDS - Best C
 ostume - BEST DISPLAY 11/05 - 589 W Pike St, Lawrenceville, GA All sho
 ws 11am - 4pm - Registration cut off - 2:30 pm INFO - Jeff Rutherford 
 - 770-331-4692\n\nFor more information visit https://www.southeastwhee
 lsevents.com/events/pep-boys-summer-16-series-car-truck-bike-show-2
DTSTART;TZID=Pacific/Midway:20160806T110000
DTEND;TZID=Pacific/Midway:20160806T160000
CATEGORIES:car, truck, "&", bike, show
LOCATION:PEP-BOYS
WEBSITE:
URL:
CONTACT:770-331-4692
ORGANIZER:Rutherford Entertainment - Jeff Rutherford
ATTACH;FMTTYPE="image/jpeg":http://storage.ning.com/topology/rest/1.0/
 file/get/967704378?profile=original
ATTENDEE;ROLE=REQ-PARTICIPANT;PARTSTAT=ACCEPTED;RSVP=TRUE;CN="Robert D
 . sauer":https://www.southeastwheelsevents.com/profile/RobertDsauer
ATTENDEE;ROLE=REQ-PARTICIPANT;PARTSTAT=ACCEPTED;RSVP=TRUE;CN="Jeffrey 
 Rutherford":https://www.southeastwheelsevents.com/profile/JeffreyRuthe
 rford866
END:VEVENT
END:VCALENDAR
