BEGIN:VCALENDAR
PRODID:NingEventWidget-v1
VERSION:2.0
METHOD:PUBLISH
BEGIN:VTIMEZONE
TZID:Pacific/Midway
X-LIC-LOCATION:Pacific/Midway
BEGIN:STANDARD
TZOFFSETFROM:-1100
TZOFFSETTO:-1100
TZNAME:SST
DTSTART:19700101T000000
END:STANDARD
END:VTIMEZONE
BEGIN:VEVENT
UID:5072275:Event:619986
DTSTAMP:20260424T033023Z
SUMMARY:PepBoys Speed Shop, SATURDAY CRUISE-IN
DESCRIPTION:First Saturday of the month of March.\nCome Cruise-in with
  Pep Boys Speed Shop and Georgia Regional Mustang Club. Lots of fun,Mu
 sic,Door Prizes,Food.\n\nFor more information visit https://www.southe
 astwheelsevents.com/events/pepboys-speed-shop-saturday-cruise-in-1
DTSTART;TZID=Pacific/Midway:20130302T120000
DTEND;TZID=Pacific/Midway:20130302T160000
CATEGORIES:cruise-in
LOCATION:Marietta,Ga.
WEBSITE:
URL:
CONTACT:770.956.8453-shop  770.668.4050-cell
ORGANIZER;CN="JOHN PRYOR":https://www.southeastwheelsevents.com/profil
 e/JOHNDPRYOR
ATTACH;FMTTYPE="image/jpeg":
ATTENDEE;ROLE=REQ-PARTICIPANT;PARTSTAT=ACCEPTED;RSVP=TRUE;CN="JOHN PRY
 OR":https://www.southeastwheelsevents.com/profile/JOHNDPRYOR
ATTENDEE;ROLE=REQ-PARTICIPANT;PARTSTAT=TENTATIVE;RSVP=TRUE;CN="JP Brad
 y":https://www.southeastwheelsevents.com/profile/jpbrady
END:VEVENT
END:VCALENDAR
