BEGIN:VCALENDAR
PRODID:NingEventWidget-v1
VERSION:2.0
METHOD:PUBLISH
BEGIN:VTIMEZONE
TZID:Pacific/Midway
X-LIC-LOCATION:Pacific/Midway
BEGIN:STANDARD
TZOFFSETFROM:-1100
TZOFFSETTO:-1100
TZNAME:SST
DTSTART:19700101T000000
END:STANDARD
END:VTIMEZONE
BEGIN:VEVENT
UID:5072275:Event:561621
DTSTAMP:20260424T104914Z
SUMMARY:Petit Jean Fall Show & Swap Meet -Morrilton, AR
DESCRIPTION:Petit Jean 15th Annual Fall Show & Swap Meet. Museum of Au
 tomobiles, 8 Jones Ln.. SP: Museum of Automobiles. Alan Hoelzeman, PH:
  501- 727-5427 or info@museumofautos.com orwww.museumofautos.com.\n\
 nFor more information visit https://www.southeastwheelsevents.com/even
 ts/petit-jean-fall-show-swap-meet-morrilton-ar
DTSTART;TZID=Pacific/Midway:20120919T000000
DTEND;TZID=Pacific/Midway:20120922T235900
CATEGORIES:car-show, swap-meet
LOCATION:Museum of Automobiles
WEBSITE:http://www.museumofautos.com
URL:http://www.museumofautos.com
CONTACT:Alan Hoelzeman, PH: 501- 727-5427
ORGANIZER:Museum of Automobiles
ATTACH;FMTTYPE="image/jpeg":http://storage.ning.com/topology/rest/1.0/
 file/get/967622871?profile=original
ATTENDEE;ROLE=REQ-PARTICIPANT;PARTSTAT=ACCEPTED;RSVP=TRUE;CN="Michael 
 Thies":https://www.southeastwheelsevents.com/profile/MichaelThies
END:VEVENT
END:VCALENDAR
