BEGIN:VCALENDAR
PRODID:NingEventWidget-v1
VERSION:2.0
METHOD:PUBLISH
BEGIN:VTIMEZONE
TZID:Pacific/Midway
X-LIC-LOCATION:Pacific/Midway
BEGIN:STANDARD
TZOFFSETFROM:-1100
TZOFFSETTO:-1100
TZNAME:SST
DTSTART:19700101T000000
END:STANDARD
END:VTIMEZONE
BEGIN:VEVENT
UID:5072275:Event:1239391
DTSTAMP:20260421T005119Z
SUMMARY:Pharoahs Movie Motors Drive In- Winder, GA
DESCRIPTION: \n\nFor more information visit https://www.southeastwheel
 sevents.com/events/pharoahs-movie-motres-drive-in-winder-ga
DTSTART;TZID=Pacific/Midway:20221008T150000
DTEND;TZID=Pacific/Midway:20221008T190000
CATEGORIES:monthly, car, -, truck, "&amp", bike, show
LOCATION:468 Manning Gin Road
WEBSITE:
URL:
CONTACT:678-702-7339
ORGANIZER:Derrick Stidham
ATTACH;FMTTYPE="image/jpeg":https://storage.ning.com/topology/rest/1.0
 /file/get/10505519891?profile=original
ATTENDEE;ROLE=REQ-PARTICIPANT;PARTSTAT=ACCEPTED;RSVP=TRUE;CN="Chuck Aa
 ron":https://www.southeastwheelsevents.com/profile/ChuckAaron886
END:VEVENT
END:VCALENDAR
