BEGIN:VCALENDAR
PRODID:NingEventWidget-v1
VERSION:2.0
METHOD:PUBLISH
BEGIN:VTIMEZONE
TZID:Pacific/Midway
X-LIC-LOCATION:Pacific/Midway
BEGIN:STANDARD
TZOFFSETFROM:-1100
TZOFFSETTO:-1100
TZNAME:SST
DTSTART:19700101T000000
END:STANDARD
END:VTIMEZONE
BEGIN:VEVENT
UID:5072275:Event:1240676
DTSTAMP:20260424T041805Z
SUMMARY:Pharoahs of South Ga. 2nd Annual Toy Drive Car Show
DESCRIPTION:This is our 2nd annual toy drive show. at least 1 unwrappe
 d toy is the entry fee for the show. We will be doing a few different 
 awards this year.. So come hangout bring some toys and have a good tim
 e helping some of  the kids they won't have a Christmas otherwise in 
 the coweta and surronding areas. we helped over 100 kids last year let
 s double that. There will be a BBQ vendor setup as well. If you would 
 like to be a vendor please reach out to me also..........Thanks hope t
 o see y'all there\n\nFor more information visit https://www.southeastw
 heelsevents.com/events/pharoahs-of-south-ga-toy-drive-car-show
DTSTART;TZID=Pacific/Midway:20221210T130000
DTEND;TZID=Pacific/Midway:20221210T180000
CATEGORIES:toy, drive, car, show
LOCATION:The Original Hotdog Factory lot
WEBSITE:
URL:
CONTACT:6786338566
ORGANIZER;CN="James Still":https://www.southeastwheelsevents.com/profi
 le/JamesStill
ATTACH;FMTTYPE="image/jpeg":https://storage.ning.com/topology/rest/1.0
 /file/get/10860397057?profile=original
ATTENDEE;ROLE=REQ-PARTICIPANT;PARTSTAT=ACCEPTED;RSVP=TRUE;CN="James St
 ill":https://www.southeastwheelsevents.com/profile/JamesStill
END:VEVENT
END:VCALENDAR
