BEGIN:VCALENDAR
PRODID:NingEventWidget-v1
VERSION:2.0
METHOD:PUBLISH
BEGIN:VTIMEZONE
TZID:Pacific/Midway
X-LIC-LOCATION:Pacific/Midway
BEGIN:STANDARD
TZOFFSETFROM:-1100
TZOFFSETTO:-1100
TZNAME:SST
DTSTART:19700101T000000
END:STANDARD
END:VTIMEZONE
BEGIN:VEVENT
UID:5072275:Event:1232932
DTSTAMP:20260425T041414Z
SUMMARY:Pharoahs Paradise Rd Monthly Car, Truck, and Bike show -Auburn
 , GA
DESCRIPTION:Join the cool kids every 4th Saturday from 10-2 for our mo
 nthly car and bike show in downtown Auburn Ga. Top 10, best vintage, b
 est modern, best bike, and best in show trophies to be awarded. It's e
 very young kid's dream to be a Pharoah. come check out why we're one o
 f the fastest growing clubs around\n\nFor more information visit https
 ://www.southeastwheelsevents.com/events/pharoahs-paradise-rd-monthly-c
 ar-truck-and-bike-show-1
DTSTART;TZID=Pacific/Midway:20240824T100000
DTEND;TZID=Pacific/Midway:20240824T140000
CATEGORIES:monthly, car, -, truck, "&amp", bike, show
LOCATION:Whistle Stop Shops
WEBSITE:
URL:
CONTACT:678-702-7339
ORGANIZER:Derrick Stidham
ATTACH;FMTTYPE="image/jpeg":https://storage.ning.com/topology/rest/1.0
 /file/get/10505519891?profile=original
ATTENDEE;ROLE=REQ-PARTICIPANT;PARTSTAT=TENTATIVE;RSVP=TRUE;CN="Jeffrey
  Rutherford":https://www.southeastwheelsevents.com/profile/JeffreyRuth
 erford866
END:VEVENT
END:VCALENDAR
