BEGIN:VCALENDAR
PRODID:NingEventWidget-v1
VERSION:2.0
METHOD:PUBLISH
BEGIN:VTIMEZONE
TZID:Pacific/Midway
X-LIC-LOCATION:Pacific/Midway
BEGIN:STANDARD
TZOFFSETFROM:-1100
TZOFFSETTO:-1100
TZNAME:SST
DTSTART:19700101T000000
END:STANDARD
END:VTIMEZONE
BEGIN:VEVENT
UID:5072275:Event:28979
DTSTAMP:20260423T163147Z
SUMMARY:Phyllis McCombs Memorial Car Show -Hueytown, AL
DESCRIPTION:Open car show/show cars/drag cars/race cars/motor cycles/b
 oats/special interest/cars under construction/u tow it will show it.Lo
 ts Of Shade....Trailor parking...50's music...Food...No JUDGING ! Plen
 ty of door prizes...Twenty dollars registeration fee & ten dollars for
  second car.(GRAND PRIZE) fifteen hundred dollars drawn from registere
 d vehicles only!Contact # 205-491-8711 or 205-541-3980\n\nFor more inf
 ormation visit https://www.southeastwheelsevents.com/events/phyllis-mc
 combs-memorial-car-1
DTSTART;TZID=Pacific/Midway:20100612T080000
DTEND;TZID=Pacific/Midway:20100612T140000
CATEGORIES:open, car, show
LOCATION:Valley Creek Baptist Church
WEBSITE:
URL:
CONTACT:205-491-8711
ORGANIZER;CN="gary pickett":https://www.southeastwheelsevents.com/prof
 ile/garypickett68
ATTACH;FMTTYPE="image/jpeg":
ATTENDEE;ROLE=REQ-PARTICIPANT;PARTSTAT=ACCEPTED;RSVP=TRUE;CN="gary pic
 kett":https://www.southeastwheelsevents.com/profile/garypickett
ATTENDEE;ROLE=REQ-PARTICIPANT;PARTSTAT=ACCEPTED;RSVP=TRUE;CN="gary pic
 kett":https://www.southeastwheelsevents.com/profile/garypickett68
END:VEVENT
END:VCALENDAR
