BEGIN:VCALENDAR
PRODID:NingEventWidget-v1
VERSION:2.0
METHOD:PUBLISH
BEGIN:VTIMEZONE
TZID:Pacific/Midway
X-LIC-LOCATION:Pacific/Midway
BEGIN:STANDARD
TZOFFSETFROM:-1100
TZOFFSETTO:-1100
TZNAME:SST
DTSTART:19700101T000000
END:STANDARD
END:VTIMEZONE
BEGIN:VEVENT
UID:5072275:Event:1080499
DTSTAMP:20260423T224712Z
SUMMARY:Pickens Azalea ffestival Cruise-In -Pickens, SC
DESCRIPTION:\r\nCRUISE-IN\r\n\r\n\r\nJOIN US FRIDAY, APRIL 20\r\nNo fe
 e or application required\r\nMain Street in Pickens S.C.\r\n7 P.M. –
  UNTIL \r\nEnter from South Lewis Street or Pendleton Street.\r\nAll 
 Cruise-in traffic is one way, East to West\r\n\n\nFor more information
  visit https://www.southeastwheelsevents.com/events/pickens-azalea-ffe
 stival-cruise-in-pickens-sc
DTSTART;TZID=Pacific/Midway:20180420T190000
DTEND;TZID=Pacific/Midway:20180420T220000
CATEGORIES:car, show, festival
LOCATION:Main Street
WEBSITE:http://pickensazaleafestival.com/#cruise
URL:http://pickensazaleafestival.com/#cruise
CONTACT:864-301-1798
ORGANIZER:Pickens, SC
ATTACH;FMTTYPE="image/jpeg":http://storage.ning.com/topology/rest/1.0/
 file/get/967688014?profile=original
ATTENDEE;ROLE=REQ-PARTICIPANT;PARTSTAT=ACCEPTED;RSVP=TRUE;CN="Chuck Aa
 ron":https://www.southeastwheelsevents.com/profile/ChuckAaron886
END:VEVENT
END:VCALENDAR
