BEGIN:VCALENDAR
PRODID:NingEventWidget-v1
VERSION:2.0
METHOD:PUBLISH
BEGIN:VTIMEZONE
TZID:Pacific/Midway
X-LIC-LOCATION:Pacific/Midway
BEGIN:STANDARD
TZOFFSETFROM:-1100
TZOFFSETTO:-1100
TZNAME:SST
DTSTART:19700101T000000
END:STANDARD
END:VTIMEZONE
BEGIN:VEVENT
UID:5072275:Event:471416
DTSTAMP:20260419T220453Z
SUMMARY:Piedmont Church Cruise In - Marietta, GA
DESCRIPTION:Rods, Customs, Muscle cars and Classics are invited to mee
 t at the Piedmont Church located at 570 Piedmont Road in Marietta on t
 he first Saturday of every month from 9Am till Noon  \r\nCoffee and do
 nuts are served as is good conversation restoration and repair advice 
 and some of the areas best looking vehicles. There are No rules, No fe
 es, and no trophies................... just a good time.\r\n \r\nFor 
 information and directions call  (770) 422 2566 or ($04) 202 0070\r\n
 Piedmont Church Cruise In Flyer.pdf\r\n\r\n\n\nFor more information vi
 sit https://www.southeastwheelsevents.com/events/piedmont-church-cruis
 e-in-marietta-ga-4
DTSTART;TZID=Pacific/Midway:20180303T090000
DTEND;TZID=Pacific/Midway:20180303T120000
CATEGORIES:cruise, in
LOCATION:Piedmont Church
WEBSITE:
URL:
CONTACT:(770) 422 2566 or (404) 202 0070
ORGANIZER:Steve Guffin/Bill Abrams/Dik Wesson
ATTACH;FMTTYPE="image/jpeg":http://storage.ning.com/topology/rest/1.0/
 file/get/967603584?profile=original
ATTENDEE;ROLE=REQ-PARTICIPANT;PARTSTAT=ACCEPTED;RSVP=TRUE;CN="Dik Wess
 on":https://www.southeastwheelsevents.com/profile/DikWesson
ATTENDEE;ROLE=REQ-PARTICIPANT;PARTSTAT=ACCEPTED;RSVP=TRUE;CN="robbie p
 adgett":https://www.southeastwheelsevents.com/profile/robbiepadgett
ATTENDEE;ROLE=REQ-PARTICIPANT;PARTSTAT=ACCEPTED;RSVP=TRUE;CN="Del Cham
 pion":https://www.southeastwheelsevents.com/profile/DelChampion
ATTENDEE;ROLE=REQ-PARTICIPANT;PARTSTAT=TENTATIVE;RSVP=TRUE;CN="Bill mu
 sarra":https://www.southeastwheelsevents.com/profile/billmusarra
END:VEVENT
END:VCALENDAR
