BEGIN:VCALENDAR
PRODID:NingEventWidget-v1
VERSION:2.0
METHOD:PUBLISH
BEGIN:VTIMEZONE
TZID:Pacific/Midway
X-LIC-LOCATION:Pacific/Midway
BEGIN:STANDARD
TZOFFSETFROM:-1100
TZOFFSETTO:-1100
TZNAME:SST
DTSTART:19700101T000000
END:STANDARD
END:VTIMEZONE
BEGIN:VEVENT
UID:5072275:Event:1241692
DTSTAMP:20260423T022244Z
SUMMARY:Piedmont Church Cruise In - Marietta, GA
DESCRIPTION:An iconic Marietta event.\r\nFirst Saturday Cruise and Ann
 ual BOPC at Piedmont Church\r\n \n\nFor more information visit https:
 //www.southeastwheelsevents.com/events/piedmont-church-cruise-in-marie
 tta-ga-9
DTSTART;TZID=Pacific/Midway:20230506T073000
DTEND;TZID=Pacific/Midway:20230506T220000
CATEGORIES:car, show, cruise-in
LOCATION:Piedmont Church,
WEBSITE:
URL:
CONTACT:(404) 202-0070
ORGANIZER:
ATTACH;FMTTYPE="image/jpeg":http://storage.ning.com/topology/rest/1.0/
 file/get/967785281?profile=original
ATTENDEE;ROLE=REQ-PARTICIPANT;PARTSTAT=ACCEPTED;RSVP=TRUE;CN="Chuck Aa
 ron":https://www.southeastwheelsevents.com/profile/ChuckAaron886
ATTENDEE;ROLE=REQ-PARTICIPANT;PARTSTAT=TENTATIVE;RSVP=TRUE;CN="JP Brad
 y":https://www.southeastwheelsevents.com/profile/jpbrady
ATTENDEE;ROLE=REQ-PARTICIPANT;PARTSTAT=TENTATIVE;RSVP=TRUE;CN="Forrest
  Mahannah":https://www.southeastwheelsevents.com/profile/ForrestMahann
 ah
END:VEVENT
END:VCALENDAR
