BEGIN:VCALENDAR
PRODID:NingEventWidget-v1
VERSION:2.0
METHOD:PUBLISH
BEGIN:VTIMEZONE
TZID:Pacific/Midway
X-LIC-LOCATION:Pacific/Midway
BEGIN:STANDARD
TZOFFSETFROM:-1100
TZOFFSETTO:-1100
TZNAME:SST
DTSTART:19700101T000000
END:STANDARD
END:VTIMEZONE
BEGIN:VEVENT
UID:5072275:Event:956474
DTSTAMP:20260420T164245Z
SUMMARY:Piedmont Church Cruise In - Marietta, GA
DESCRIPTION:\nOn the first Saturday of every month from 9:00AM till 2:
 00PM,\nRods Customs, Muscle cars and Classics are invited to meet at t
 he Piedmont Church located at 570 Piedmont Road in Marietta. \nCoffee
  and donuts are served as is good conversation advice and some of the 
 areas best looking vehicles.No fees, no trophies just a good time.\n 
 For information and directions call  (770) 422 2566 or ($04) 202 0070
 \nPiedmont Church Cruise In Flyer.pdf\n\n\n\nFor more information visi
 t https://www.southeastwheelsevents.com/events/piedmont-church-cruise-
 in-marietta-ga
DTSTART;TZID=Pacific/Midway:20170107T090000
DTEND;TZID=Pacific/Midway:20170107T120000
CATEGORIES:cruise, in
LOCATION:Piedmont Church
WEBSITE:
URL:
CONTACT:(770) 422 2566 or (404) 202 0070 or 770 312 6800
ORGANIZER:Steve Guffin/Bill Abrams/Dik Wesson
ATTACH;FMTTYPE="image/jpeg":http://storage.ning.com/topology/rest/1.0/
 file/get/967603699?profile=original
ATTENDEE;ROLE=REQ-PARTICIPANT;PARTSTAT=ACCEPTED;RSVP=TRUE;CN="Chuck Aa
 ron":https://www.southeastwheelsevents.com/profile/ChuckAaron886
ATTENDEE;ROLE=REQ-PARTICIPANT;PARTSTAT=ACCEPTED;RSVP=TRUE;CN="Dik Wess
 on":https://www.southeastwheelsevents.com/profile/DikWesson
ATTENDEE;ROLE=REQ-PARTICIPANT;PARTSTAT=ACCEPTED;RSVP=TRUE;CN="Chuck Aa
 ron":https://www.southeastwheelsevents.com/profile/ChuckAaron
END:VEVENT
END:VCALENDAR
