BEGIN:VCALENDAR
PRODID:NingEventWidget-v1
VERSION:2.0
METHOD:PUBLISH
BEGIN:VTIMEZONE
TZID:Pacific/Midway
X-LIC-LOCATION:Pacific/Midway
BEGIN:STANDARD
TZOFFSETFROM:-1100
TZOFFSETTO:-1100
TZNAME:SST
DTSTART:19700101T000000
END:STANDARD
END:VTIMEZONE
BEGIN:VEVENT
UID:5072275:Event:1097697
DTSTAMP:20260425T074645Z
SUMMARY:Pigeon Forge Fall Rod Run - Pigeon Forge, TN
DESCRIPTION:PIGEON FORGE, TN, Pigeon Forge Fall Rod Run at LeConte Cen
 ter.\r\nRegistration Form\r\n\n\nFor more information visit https://ww
 w.southeastwheelsevents.com/events/pigeon-forge-fall-rod-run-pigeon-fo
 rge-tn
DTSTART;TZID=Pacific/Midway:20230914T000000
DTEND;TZID=Pacific/Midway:20230914T235900
CATEGORIES:car, show, cruise, in, festival
LOCATION:LeConte Center
WEBSITE:http://rodrun-pigeonforge.com
URL:http://rodrun-pigeonforge.com
CONTACT:Byron Cooper (865) 687-3976
ORGANIZER:
ATTACH;FMTTYPE="image/jpeg":https://storage.ning.com/topology/rest/1.0
 /file/get/10811475292?profile=original
ATTENDEE;ROLE=REQ-PARTICIPANT;PARTSTAT=ACCEPTED;RSVP=TRUE;CN="Anthony 
 Hopkins":https://www.southeastwheelsevents.com/profile/AnthonyHopkins
ATTENDEE;ROLE=REQ-PARTICIPANT;PARTSTAT=ACCEPTED;RSVP=TRUE;CN="Chuck Aa
 ron":https://www.southeastwheelsevents.com/profile/ChuckAaron886
END:VEVENT
END:VCALENDAR
