BEGIN:VCALENDAR
PRODID:NingEventWidget-v1
VERSION:2.0
METHOD:PUBLISH
BEGIN:VTIMEZONE
TZID:Pacific/Midway
X-LIC-LOCATION:Pacific/Midway
BEGIN:STANDARD
TZOFFSETFROM:-1100
TZOFFSETTO:-1100
TZNAME:SST
DTSTART:19700101T000000
END:STANDARD
END:VTIMEZONE
BEGIN:VEVENT
UID:5072275:Event:1183695
DTSTAMP:20260421T062427Z
SUMMARY:PIGEON FORGE SPRING 2020 ROD RUN
DESCRIPTION:A spectacular 3 day event for any car enthusiast! $10,000.
 00 cash giveaway, Top 25 Awards, Ultimate 5 Awards and King of the Hil
 l. Huge swap meet with hundreds of showcars and car corral.  Join the 
 many automotive enthusiasts and come on out to the Pigeon Forge Rod Ru
 n, the area’s largest automotive event! The Rod Show will be returni
 ng to its original location at The LeConte Center at Pigeon Forge. The
  newly renovated location will allow for even more show cars, vendors 
 and entertainment. Don’t miss this incredible event!\n\nFor more inf
 ormation visit https://www.southeastwheelsevents.com/events/pigeon-for
 ge-spring-2020-rod-run
DTSTART;TZID=Pacific/Midway:20200418T090000
DTEND;TZID=Pacific/Midway:20200418T210000
CATEGORIES:3, day, open, car, show, swap, meet, "&amp", "(sale)", corr
 al
LOCATION:PIGEON FORGE
WEBSITE:http://pigeonforgerodruns.com
URL:http://pigeonforgerodruns.com
CONTACT:
ORGANIZER:PIGEON FORGE
ATTACH;FMTTYPE="image/jpeg":https://storage.ning.com/topology/rest/1.0
 /file/get/3783684487?profile=original
ATTENDEE;ROLE=REQ-PARTICIPANT;PARTSTAT=TENTATIVE;RSVP=TRUE;CN="Jeffrey
  Rutherford":https://www.southeastwheelsevents.com/profile/JeffreyRuth
 erford866
END:VEVENT
END:VCALENDAR
