BEGIN:VCALENDAR
PRODID:NingEventWidget-v1
VERSION:2.0
METHOD:PUBLISH
BEGIN:VTIMEZONE
TZID:Pacific/Midway
X-LIC-LOCATION:Pacific/Midway
BEGIN:STANDARD
TZOFFSETFROM:-1100
TZOFFSETTO:-1100
TZNAME:SST
DTSTART:19700101T000000
END:STANDARD
END:VTIMEZONE
BEGIN:VEVENT
UID:5072275:Event:1170243
DTSTAMP:20260423T140419Z
SUMMARY:PlayLoud 7 Car and Truck Show
DESCRIPTION:PlayLoud is a show organized to raise school supplies for 
 unfortunate kids. How you ask, instead of registering with cash you re
 gister with $10 in school supplies. We then fill backpacks with the su
 pplies and give them to kids in need. There is also food vendor, games
 , and bounce houses so the entire family will be plenty entertained. I
 t's also a top 20 show with Best of Show, Club Participation, Best Car
 , Best Truck, and Best Classic. We hope to see you there...\n\nFor mor
 e information visit https://www.southeastwheelsevents.com/events/playl
 oud-7-car-and-truck-show
DTSTART;TZID=Pacific/Midway:20190803T100000
DTEND;TZID=Pacific/Midway:20190803T150000
CATEGORIES:back, to, school, carshow
LOCATION:Jennings City Park
WEBSITE:https://www.facebook.com/events/2073812226282756/
URL:https://www.facebook.com/events/2073812226282756/
CONTACT:850-251-7441
ORGANIZER;CN="Kent Daniels":https://www.southeastwheelsevents.com/prof
 ile/KentDaniels
ATTACH;FMTTYPE="image/jpeg":https://storage.ning.com/topology/rest/1.0
 /file/get/2899532599?profile=original
ATTENDEE;ROLE=REQ-PARTICIPANT;PARTSTAT=ACCEPTED;RSVP=TRUE;CN="Kent Dan
 iels":https://www.southeastwheelsevents.com/profile/KentDaniels
END:VEVENT
END:VCALENDAR
