BEGIN:VCALENDAR
PRODID:NingEventWidget-v1
VERSION:2.0
METHOD:PUBLISH
BEGIN:VTIMEZONE
TZID:Pacific/Midway
X-LIC-LOCATION:Pacific/Midway
BEGIN:STANDARD
TZOFFSETFROM:-1100
TZOFFSETTO:-1100
TZNAME:SST
DTSTART:19700101T000000
END:STANDARD
END:VTIMEZONE
BEGIN:VEVENT
UID:5072275:Event:396983
DTSTAMP:20260423T072401Z
SUMMARY:Po Boy's Car Club cruise-in Canton GA.
DESCRIPTION: Car cruise-in every Third Saturday of each Month from Ma
 rch till October 250 to 400 cars all types Onlt $5.00 per car free to 
 spectators. Music by DJ lots of Door Prizes!\n\nFor more information v
 isit https://www.southeastwheelsevents.com/events/po-boy-s-car-club-cr
 uise-in-canton-ga
DTSTART;TZID=Pacific/Midway:20120616T150000
DTEND;TZID=Pacific/Midway:20120616T200000
CATEGORIES:monthly, cruise
LOCATION:Riverstone Pkwy Canton Ga in Belks and Publix Shopping Center
WEBSITE:http://poboyscarclub,com
URL:http://poboyscarclub,com
CONTACT:404-226-8087
ORGANIZER:Po Boy's Car Club
ATTACH;FMTTYPE="image/jpeg":http://storage.ning.com/topology/rest/1.0/
 file/get/967602168?profile=original
ATTENDEE;ROLE=REQ-PARTICIPANT;PARTSTAT=ACCEPTED;RSVP=TRUE;CN="Keith Cl
 ine":https://www.southeastwheelsevents.com/profile/KeithCline
ATTENDEE;ROLE=REQ-PARTICIPANT;PARTSTAT=TENTATIVE;RSVP=TRUE;CN="JP Brad
 y":https://www.southeastwheelsevents.com/profile/jpbrady
END:VEVENT
END:VCALENDAR
