BEGIN:VCALENDAR
PRODID:NingEventWidget-v1
VERSION:2.0
METHOD:PUBLISH
BEGIN:VTIMEZONE
TZID:Pacific/Midway
X-LIC-LOCATION:Pacific/Midway
BEGIN:STANDARD
TZOFFSETFROM:-1100
TZOFFSETTO:-1100
TZNAME:SST
DTSTART:19700101T000000
END:STANDARD
END:VTIMEZONE
BEGIN:VEVENT
UID:5072275:Event:1197324
DTSTAMP:20260421T143502Z
SUMMARY:Po-Boys 3rd Sat Cruise-In
DESCRIPTION:\n\nFor more information visit https://www.southeastwheels
 events.com/events/po-boyw-3rd-sat-cruise-in
DTSTART;TZID=Pacific/Midway:20200620T150000
DTEND;TZID=Pacific/Midway:20200620T200000
CATEGORIES:charity, cruise-in
LOCATION:Publix S/C
WEBSITE:
URL:
CONTACT:
ORGANIZER:Po-Boys C/C
ATTACH;FMTTYPE="image/jpeg":https://storage.ning.com/topology/rest/1.0
 /file/get/6052365267?profile=original
ATTENDEE;ROLE=REQ-PARTICIPANT;PARTSTAT=TENTATIVE;RSVP=TRUE;CN="Jeffrey
  Rutherford":https://www.southeastwheelsevents.com/profile/JeffreyRuth
 erford866
END:VEVENT
END:VCALENDAR
