BEGIN:VCALENDAR
PRODID:NingEventWidget-v1
VERSION:2.0
METHOD:PUBLISH
BEGIN:VTIMEZONE
TZID:Pacific/Midway
X-LIC-LOCATION:Pacific/Midway
BEGIN:STANDARD
TZOFFSETFROM:-1100
TZOFFSETTO:-1100
TZNAME:SST
DTSTART:19700101T000000
END:STANDARD
END:VTIMEZONE
BEGIN:VEVENT
UID:5072275:Event:1273565
DTSTAMP:20260421T070222Z
SUMMARY:PoBoys Fundraising Cruise-In, Canton GA
DESCRIPTION:PoBoys Car Show /Cruise-In & Fundraising Riverstone Plaza 
 Canton, GA every 3rd Saturday\n Every 3rd Saturday - March through Oct
 ober Riverstone Plaza 1447 Riverstone Pkwy, Canton, GA 30114 1 PM unti
 l 5PM --- $ 5.00 Donation per car entry or \"Heartfelt Donation\"  See
  more information at https://poboyscarclub.weebly.com/  We invite clas
 sic cars, trucks, jeeps, motorcycles, new cars, and anything on wheels
 ! Car clubs are invited,  Bring the whole family, it's FREE to spectat
 e.  Your support helps our club to support local Cherokee County chari
 ties and \" EVERY KID DESERVES A CHRISTMAS\" program.  PoBoys Car Clu
 b is a corporation with the State of Georgia, EIN Federal ID, and 501 
 (C)3 for Non-Profit status.  “Heartfelt Donations are always apprec
 iated!\n \nFor up-to-date information for any cancellations visit our
  Facebook page at https://www.facebook.com/poboyscarclub  Come and sho
 w your beautiful rides! Raffle tickets for end of year prizes.\n\nFor 
 more information visit https://www.southeastwheelsevents.com/events/po
 boys-fundraising-cruise-in-canton-ga-1
DTSTART;TZID=Pacific/Midway:20260418T130000
DTEND;TZID=Pacific/Midway:20260418T170000
CATEGORIES:fundraising, car, cruise
LOCATION:Riverstone Plaza
WEBSITE:https://poboyscarclub.weebly.com/monthly-events.html
URL:https://poboyscarclub.weebly.com/monthly-events.html
CONTACT:
ORGANIZER;CN="PoBoys Car Club":https://www.southeastwheelsevents.com/p
 rofile/PoBoysCarClub
ATTACH;FMTTYPE="image/jpeg":https://storage.ning.com/topology/rest/1.0
 /file/get/31095900472?profile=original
ATTENDEE;ROLE=REQ-PARTICIPANT;PARTSTAT=ACCEPTED;RSVP=TRUE;CN="PoBoys C
 ar Club":https://www.southeastwheelsevents.com/profile/PoBoysCarClub
END:VEVENT
END:VCALENDAR
