BEGIN:VCALENDAR
PRODID:NingEventWidget-v1
VERSION:2.0
METHOD:PUBLISH
BEGIN:VTIMEZONE
TZID:Pacific/Midway
X-LIC-LOCATION:Pacific/Midway
BEGIN:STANDARD
TZOFFSETFROM:-1100
TZOFFSETTO:-1100
TZNAME:SST
DTSTART:19700101T000000
END:STANDARD
END:VTIMEZONE
BEGIN:VEVENT
UID:5072275:Event:541423
DTSTAMP:20260419T075823Z
SUMMARY:Poker run for murder victim! Willacoochee GA
DESCRIPTION:Hello my name is Shianne. Im trying to advertise a poker r
 un for my cousin who was murdered over a year ago. My family started a
 n organization called The Rosie Foundation. We are planning this event
  to raise money to offer as an award to the person who helps us put he
 r vicious murdered behind bars.\nhttp://www.therosiefoundation.com/Eve
 nts.html this is our website please contact us if you are willing to h
 elp. Also a phone number to reach us at is 229-457-0039. Thanks we are
  looking forward to seeing you and your group join us in Willacoochee 
 GA. This poker run isnt just allowing motorcycles but vintage or class
 ic cars. So come out and show off your ride and we want a huge turn ou
 t so invite your friends. Hope to see you soon!\n\nFor more informatio
 n visit https://www.southeastwheelsevents.com/events/poker-run-for-mur
 der-victim-willacoochee-ga
DTSTART;TZID=Pacific/Midway:20121027T000000
DTEND;TZID=Pacific/Midway:20121028T235900
CATEGORIES:fundraiser
LOCATION:Willacoochee GA
WEBSITE:http://www.therosiefoundation.com/Events.html
URL:http://www.therosiefoundation.com/Events.html
CONTACT:229-457-0039
ORGANIZER;CN="Shianne Roberts":https://www.southeastwheelsevents.com/p
 rofile/ShianneRoberts
ATTACH;FMTTYPE="image/jpeg":
ATTENDEE;ROLE=REQ-PARTICIPANT;PARTSTAT=ACCEPTED;RSVP=TRUE;CN="Shianne 
 Roberts":https://www.southeastwheelsevents.com/profile/ShianneRoberts
END:VEVENT
END:VCALENDAR
