BEGIN:VCALENDAR
PRODID:NingEventWidget-v1
VERSION:2.0
METHOD:PUBLISH
BEGIN:VTIMEZONE
TZID:Pacific/Midway
X-LIC-LOCATION:Pacific/Midway
BEGIN:STANDARD
TZOFFSETFROM:-1100
TZOFFSETTO:-1100
TZNAME:SST
DTSTART:19700101T000000
END:STANDARD
END:VTIMEZONE
BEGIN:VEVENT
UID:5072275:Event:1049797
DTSTAMP:20260423T125214Z
SUMMARY:Poker Run to Benefit CSP and Camp for Children with Special Ne
 eds
DESCRIPTION:\n\nTo raise money for special need kids to enjoy going to
  camp and enjoy themselfs while giving their caregiver a little break.
  Registration @ 11am and Ksu @12 noon. $20.00 per driver and $10.00 pe
 r passenger. Free hotdog meal for all participants after ride along wi
 th raffle and auction\n\n\n\n\n\nFor more information visit https://ww
 w.southeastwheelsevents.com/events/poker-run-to-benefit-csp-and-camp-f
 or-children-with-special-needs
DTSTART;TZID=Pacific/Midway:20170610T000000
DTEND;TZID=Pacific/Midway:20170610T235900
CATEGORIES:bikes, event, show
LOCATION:The Lavonia Moose Lodge
WEBSITE:http://www.facebook.com/events/986906351444926/?ti=cl
URL:http://www.facebook.com/events/986906351444926/?ti=cl
CONTACT:
ORGANIZER:http://www.facebook.com/events/986906351444926/?ti=cl
ATTACH;FMTTYPE="image/jpeg":http://storage.ning.com/topology/rest/1.0/
 file/get/967746037?profile=original
ATTENDEE;ROLE=REQ-PARTICIPANT;PARTSTAT=ACCEPTED;RSVP=TRUE;CN="Christop
 her Gosney":https://www.southeastwheelsevents.com/profile/ChristopherG
 osney
END:VEVENT
END:VCALENDAR
