BEGIN:VCALENDAR
PRODID:NingEventWidget-v1
VERSION:2.0
METHOD:PUBLISH
BEGIN:VTIMEZONE
TZID:Pacific/Midway
X-LIC-LOCATION:Pacific/Midway
BEGIN:STANDARD
TZOFFSETFROM:-1100
TZOFFSETTO:-1100
TZNAME:SST
DTSTART:19700101T000000
END:STANDARD
END:VTIMEZONE
BEGIN:VEVENT
UID:5072275:Event:16502
DTSTAMP:20260420T234108Z
SUMMARY:Police Club Car Show -Spartanburg, SC
DESCRIPTION:Spartanburg Police Club Car Show -Spartanburg, SC\nInfo Of
 fery Hines 864-316-3872, Pat Switzer 864-590-4730\n\nFor more informat
 ion visit https://www.southeastwheelsevents.com/events/police-club-car
 -show
DTSTART;TZID=Pacific/Midway:20100417T110000
DTEND;TZID=Pacific/Midway:20100417T150000
CATEGORIES:car-show
LOCATION:Call Offery or Pat
WEBSITE:http://www.carolinaclassics.net
URL:http://www.carolinaclassics.net
CONTACT:Offery Hines 864-316-3872, Pat Switzer 864-590-4730
ORGANIZER:Spartanburg Police Club
ATTACH;FMTTYPE="image/jpeg":
ATTENDEE;ROLE=REQ-PARTICIPANT;PARTSTAT=ACCEPTED;RSVP=TRUE;CN="Michael 
 Thies":https://www.southeastwheelsevents.com/profile/MichaelThies
END:VEVENT
END:VCALENDAR
