BEGIN:VCALENDAR
PRODID:NingEventWidget-v1
VERSION:2.0
METHOD:PUBLISH
BEGIN:VTIMEZONE
TZID:Pacific/Midway
X-LIC-LOCATION:Pacific/Midway
BEGIN:STANDARD
TZOFFSETFROM:-1100
TZOFFSETTO:-1100
TZNAME:SST
DTSTART:19700101T000000
END:STANDARD
END:VTIMEZONE
BEGIN:VEVENT
UID:5072275:Event:938481
DTSTAMP:20260422T164326Z
SUMMARY:Police Pals
DESCRIPTION:Andrews Police Pals, Andrews, NC\n\nFor more information v
 isit https://www.southeastwheelsevents.com/events/police-pals
DTSTART;TZID=Pacific/Midway:20151017T120000
DTEND;TZID=Pacific/Midway:20151017T230000
CATEGORIES:cruise, night, and, car, show, "fundraiser."
LOCATION:Andrews, NC
WEBSITE:
URL:
CONTACT:828-361-1111
ORGANIZER;CN="Susie Bryant":https://www.southeastwheelsevents.com/prof
 ile/SusieBryant
ATTACH;FMTTYPE="image/jpeg":http://storage.ning.com/topology/rest/1.0/
 file/get/967698260?profile=original
ATTENDEE;ROLE=REQ-PARTICIPANT;PARTSTAT=ACCEPTED;RSVP=TRUE;CN="Susie Br
 yant":https://www.southeastwheelsevents.com/profile/SusieBryant
END:VEVENT
END:VCALENDAR
