BEGIN:VCALENDAR
PRODID:NingEventWidget-v1
VERSION:2.0
METHOD:PUBLISH
BEGIN:VTIMEZONE
TZID:Pacific/Midway
X-LIC-LOCATION:Pacific/Midway
BEGIN:STANDARD
TZOFFSETFROM:-1100
TZOFFSETTO:-1100
TZNAME:SST
DTSTART:19700101T000000
END:STANDARD
END:VTIMEZONE
BEGIN:VEVENT
UID:5072275:Event:1027036
DTSTAMP:20260421T130304Z
SUMMARY:Poplar Springs Baptist Church Car Show and Fish Fry -Hiram, GA
DESCRIPTION:Poplar Springs Baptist Church Car Show and Fish Fry.  $20
  in advance $25 day of show. Fried fish plates available for sale.  T
 rophies and prizes. \n\nFor more information visit https://www.southe
 astwheelsevents.com/events/poplar-springs-baptist-church-car-show-and-
 fish-fry
DTSTART;TZID=Pacific/Midway:20170311T110000
DTEND;TZID=Pacific/Midway:20170311T150000
CATEGORIES:student, ministries, fund, raiser
LOCATION:Poplar Springs Baptist Church
WEBSITE:
URL:
CONTACT:770-943-6789
ORGANIZER:Michael Parmer
ATTACH;FMTTYPE="image/jpeg":http://storage.ning.com/topology/rest/1.0/
 file/get/967725939?profile=original
ATTENDEE;ROLE=REQ-PARTICIPANT;PARTSTAT=ACCEPTED;RSVP=TRUE;CN="Daniel C
 lendenen":https://www.southeastwheelsevents.com/profile/DanielClendene
 n66
ATTENDEE;ROLE=REQ-PARTICIPANT;PARTSTAT=ACCEPTED;RSVP=TRUE;CN="Al Gepha
 rt":https://www.southeastwheelsevents.com/profile/AlGephart
END:VEVENT
END:VCALENDAR
