BEGIN:VCALENDAR
PRODID:NingEventWidget-v1
VERSION:2.0
METHOD:PUBLISH
BEGIN:VTIMEZONE
TZID:Pacific/Midway
X-LIC-LOCATION:Pacific/Midway
BEGIN:STANDARD
TZOFFSETFROM:-1100
TZOFFSETTO:-1100
TZNAME:SST
DTSTART:19700101T000000
END:STANDARD
END:VTIMEZONE
BEGIN:VEVENT
UID:5072275:Event:834837
DTSTAMP:20260425T023817Z
SUMMARY:PorktoberQUE Car Show -Dothan, AL
DESCRIPTION:\nThe New South Cruisers will again feature their large ca
 r show on the midway Saturday, September 27, 2014. If you have a class
 ic car, it is $20 to register, and you can use the special Prevatt Roa
 d gate to access the car show. Registration is from 9-11, and judging 
 begins at 11. There will be awards for the top 50 given out at 3:00 pm
 . All registered cars receive 2 free admission tickets to the barbecue
  festivities. For more information, call Steve at (334) 702-1224 or Ke
 n at (334) 794-6689 or (334) 589-0548.\n\n\nFor more information visit
  https://www.southeastwheelsevents.com/events/porktoberque-car-show-do
 than-al
DTSTART;TZID=Pacific/Midway:20150926T090000
DTEND;TZID=Pacific/Midway:20150926T150000
CATEGORIES:car-show, festival
LOCATION:Houstan County Farm Center
WEBSITE:http://www.newsouthcruisers.com/events/2014_September_27.jpg
URL:http://www.newsouthcruisers.com/events/2014_September_27.jpg
CONTACT:Steve at (334) 702-1224 or Ken at (334) 794-6689 or (334) 589-
 0548.
ORGANIZER:New South Cruisers
ATTACH;FMTTYPE="image/jpeg":http://storage.ning.com/topology/rest/1.0/
 file/get/967669445?profile=original
ATTENDEE;ROLE=REQ-PARTICIPANT;PARTSTAT=ACCEPTED;RSVP=TRUE;CN="Chuck Aa
 ron":https://www.southeastwheelsevents.com/profile/ChuckAaron
END:VEVENT
END:VCALENDAR
