BEGIN:VCALENDAR
PRODID:NingEventWidget-v1
VERSION:2.0
METHOD:PUBLISH
BEGIN:VTIMEZONE
TZID:Pacific/Midway
X-LIC-LOCATION:Pacific/Midway
BEGIN:STANDARD
TZOFFSETFROM:-1100
TZOFFSETTO:-1100
TZNAME:SST
DTSTART:19700101T000000
END:STANDARD
END:VTIMEZONE
BEGIN:VEVENT
UID:5072275:Event:578583
DTSTAMP:20260424T152637Z
SUMMARY:Port Royal Pirate Festival -Port Royal, SC
DESCRIPTION:Cruise in display.  No trophies or awards, just a chance 
 to get great parking at a wonderful street festival, lots of food, bev
 erages, entertainment and interesting classic cars.  Wear your pirate
  costume if you so desire.\n\nFor more information visit https://www.s
 outheastwheelsevents.com/events/port-royal-pirate-festival-port-royal-
 sc
DTSTART;TZID=Pacific/Midway:20141018T100000
DTEND;TZID=Pacific/Midway:20141018T150000
CATEGORIES:cruise, in
LOCATION:Paris Avenue
WEBSITE:
URL:
CONTACT:(843) 263-8501, 843-470-1110
ORGANIZER;CN="Michael H Keyserling":https://www.southeastwheelsevents.
 com/profile/MichaelHKeyserling
ATTACH;FMTTYPE="image/jpeg":http://storage.ning.com/topology/rest/1.0/
 file/get/967628577?profile=original
ATTENDEE;ROLE=REQ-PARTICIPANT;PARTSTAT=ACCEPTED;RSVP=TRUE;CN="Chuck Aa
 ron":https://www.southeastwheelsevents.com/profile/ChuckAaron
ATTENDEE;ROLE=REQ-PARTICIPANT;PARTSTAT=ACCEPTED;RSVP=TRUE;CN="Michael 
 H Keyserling":https://www.southeastwheelsevents.com/profile/MichaelHKe
 yserling
END:VEVENT
END:VCALENDAR
