BEGIN:VCALENDAR
PRODID:NingEventWidget-v1
VERSION:2.0
METHOD:PUBLISH
BEGIN:VTIMEZONE
TZID:Pacific/Midway
X-LIC-LOCATION:Pacific/Midway
BEGIN:STANDARD
TZOFFSETFROM:-1100
TZOFFSETTO:-1100
TZNAME:SST
DTSTART:19700101T000000
END:STANDARD
END:VTIMEZONE
BEGIN:VEVENT
UID:5072275:Event:1176269
DTSTAMP:20260420T112141Z
SUMMARY:POTTEROWS BRAGGING RIGHTS CAR TRUCK & BIKE SHOW
DESCRIPTION:O\n\nFor more information visit https://www.southeastwheel
 sevents.com/events/potterows-bragging-rights-car-truck-bike-show
DTSTART;TZID=Pacific/Midway:20190901T130000
DTEND;TZID=Pacific/Midway:20190901T170000
CATEGORIES:car, truck, "&amp", bike, show
LOCATION:Garden Valley
WEBSITE:
URL:
CONTACT:
ORGANIZER:
ATTACH;FMTTYPE="image/jpeg":https://storage.ning.com/topology/rest/1.0
 /file/get/3455329321?profile=original
ATTENDEE;ROLE=REQ-PARTICIPANT;PARTSTAT=TENTATIVE;RSVP=TRUE;CN="Jeffrey
  Rutherford":https://www.southeastwheelsevents.com/profile/JeffreyRuth
 erford866
END:VEVENT
END:VCALENDAR
