BEGIN:VCALENDAR
PRODID:NingEventWidget-v1
VERSION:2.0
METHOD:PUBLISH
BEGIN:VTIMEZONE
TZID:Pacific/Midway
X-LIC-LOCATION:Pacific/Midway
BEGIN:STANDARD
TZOFFSETFROM:-1100
TZOFFSETTO:-1100
TZNAME:SST
DTSTART:19700101T000000
END:STANDARD
END:VTIMEZONE
BEGIN:VEVENT
UID:5072275:Event:976224
DTSTAMP:20260422T225829Z
SUMMARY:Powder Springs Ga. Zaxby's 5th Friday Cruise In
DESCRIPTION:Zaxby's in Powder Springs Ga. 5Th Friday Night Cruise In, 
 All Cars welcome, Free Drinks for cruise cars, Music, 50/50 drawing, s
 tarts at 5 pm come on out !!\n\nFor more information visit https://www
 .southeastwheelsevents.com/events/powder-springs-ga-zaxby-s-5th-friday
 -cruise-in
DTSTART;TZID=Pacific/Midway:20160429T170000
DTEND;TZID=Pacific/Midway:20160429T210000
CATEGORIES:cruise, night
LOCATION:Zaxby's Brownsville Rd. Powder Springs
WEBSITE:
URL:
CONTACT:
ORGANIZER;CN="mark cockrill":https://www.southeastwheelsevents.com/pro
 file/markcockrill
ATTACH;FMTTYPE="image/jpeg":
ATTENDEE;ROLE=REQ-PARTICIPANT;PARTSTAT=ACCEPTED;RSVP=TRUE;CN="mark coc
 krill":https://www.southeastwheelsevents.com/profile/markcockrill
END:VEVENT
END:VCALENDAR
