BEGIN:VCALENDAR
PRODID:NingEventWidget-v1
VERSION:2.0
METHOD:PUBLISH
BEGIN:VTIMEZONE
TZID:Pacific/Midway
X-LIC-LOCATION:Pacific/Midway
BEGIN:STANDARD
TZOFFSETFROM:-1100
TZOFFSETTO:-1100
TZNAME:SST
DTSTART:19700101T000000
END:STANDARD
END:VTIMEZONE
BEGIN:VEVENT
UID:5072275:Event:1234334
DTSTAMP:20260419T035806Z
SUMMARY:POWER AT THE TOWER -Covington, GA
DESCRIPTION:We are having a benefit show for a sweet little boy who ha
 s cancer May 14th from 9-5 around the historic square in Covington Ga.
  We have a bunch of vendors coming for the ladies to shop, bunch of ra
 ffle items along with a golf cart raffle we are giving away. 100% of t
 he proceeds goes to the family and they will be presented with a check
  at the end of the show. We would love to see everyone there. Please s
 hare with your friends. Any questions please let me know.\n\nFor more 
 information visit https://www.southeastwheelsevents.com/events/power-a
 t-the-tower
DTSTART;TZID=Pacific/Midway:20220514T090000
DTEND;TZID=Pacific/Midway:20220514T170000
CATEGORIES:charity, car, show, foe, kalebs, cause
LOCATION:COURTHOUSE SQUARE
WEBSITE:
URL:
CONTACT:678-247-3159
ORGANIZER:KALE
ATTACH;FMTTYPE="image/jpeg":https://storage.ning.com/topology/rest/1.0
 /file/get/10391923482?profile=original
ATTENDEE;ROLE=REQ-PARTICIPANT;PARTSTAT=ACCEPTED;RSVP=TRUE;CN="John Bak
 er":https://www.southeastwheelsevents.com/profile/JohnJBaker
ATTENDEE;ROLE=REQ-PARTICIPANT;PARTSTAT=TENTATIVE;RSVP=TRUE;CN="Jeffrey
  Rutherford":https://www.southeastwheelsevents.com/profile/JeffreyRuth
 erford866
END:VEVENT
END:VCALENDAR
