BEGIN:VCALENDAR
PRODID:NingEventWidget-v1
VERSION:2.0
METHOD:PUBLISH
BEGIN:VTIMEZONE
TZID:Pacific/Midway
X-LIC-LOCATION:Pacific/Midway
BEGIN:STANDARD
TZOFFSETFROM:-1100
TZOFFSETTO:-1100
TZNAME:SST
DTSTART:19700101T000000
END:STANDARD
END:VTIMEZONE
BEGIN:VEVENT
UID:5072275:Event:1245648
DTSTAMP:20260424T152050Z
SUMMARY:Power House and Pistons Auto Show -Clarksville, GA
DESCRIPTION:The Chick-fil-A Leader Academy students at SCHS are sponso
 ring a charity car show at Miles Through Time to benefit FAITH's Power
  House. The event is free for spectators & we are asking for a minimum
  $20 donation to register your vehicle. Anything with an engine is wel
 come! PLEASE USE THE LINK BELOW for more info & pre-registration.There
  will be prizes, food trucks, a pinup contest, and much more.\r\n\n\nF
 or more information visit https://www.southeastwheelsevents.com/events
 /power-house-and-pistons-auto-show
DTSTART;TZID=Pacific/Midway:20230513T100000
DTEND;TZID=Pacific/Midway:20230513T150000
CATEGORIES:benefitting, "faith's", power, house
LOCATION:Miles Through Time
WEBSITE:
URL:
CONTACT:
ORGANIZER:Timmi Shawler, Sean Mathis, and, Mike Sussman
ATTACH;FMTTYPE="image/jpeg":https://storage.ning.com/topology/rest/1.0
 /file/get/11003245668?profile=original
ATTENDEE;ROLE=REQ-PARTICIPANT;PARTSTAT=TENTATIVE;RSVP=TRUE;CN="Jeffrey
  Rutherford":https://www.southeastwheelsevents.com/profile/JeffreyRuth
 erford866
ATTENDEE;ROLE=REQ-PARTICIPANT;PARTSTAT=TENTATIVE;RSVP=TRUE;CN="Forrest
  Mahannah":https://www.southeastwheelsevents.com/profile/ForrestMahann
 ah
END:VEVENT
END:VCALENDAR
